Workbook

Sheet Sheet3
A1: 联系方式 | B1: 单位-简称 | C1: 人员姓名 | D1: 性别 | E1: 年龄 | F1: 人员类别 （专任教师/员工） | G1: 户籍 （京籍/非京籍） | H1: 目前健康状况 | I1: 当日体温 （数字） | J1: 当日所在地 （在京/国内湖北地区/国内非湖北地区/国境外）
A2: 18812169583 | B2: 幼儿园 | C2: 张倩 | D2: 女 | E2: 22 | F2: 员工 | G2: 非京籍 | H2: 良好 | I2: 36.5 | J2: 国内非湖北地区
A3: 18600649161 | B3: 机关党委 保卫处 | C3: 赵剑飞 | D3: 男 | E3: 30 | F3: 员工 | G3: 非京籍 | H3: 良好 | I3: 36.5 | J3: 国内非湖北地区
A4: 18811770913 | B4: 材料 | C4: 李永亮 | D4: 女 | E4: 36 | F4: 员工 | G4: 非京籍 | H4: 良好 | I4: 36.1 | J4: 国内非湖北地区
A5: 13126769633 | B5: 材料 | C5: 郑耀杰 | D5: 男 | E5: 24 | F5: 员工 | G5: 京籍 | H5: 良好 | I5: 36.5 | J5: 国内非湖北地区
A6: 17623571938 | B6: 材料 | C6: 赵彦博 | D6: 男 | E6: 27 | F6: 员工 | G6: 非京籍 | H6: 良好 | I6: 36.5 | J6: 国内非湖北地区
A7: 13522695859 | B7: 材料 | C7: 李茂峰 | D7: 男 | E7: 35 | F7: 员工 | G7: 京籍 | H7: 良好 | I7: 36.3 | J7: 国内非湖北地区
A8: 18310677687 | B8: 材料 | C8: 刘宇杰 | D8: 女 | E8: 25 | F8: 员工 | G8: 京籍 | H8: 良好 | I8: 36 | J8: 国内非湖北地区
A9: 13911024609 | B9: 机关党委 财务处 | C9: 向剑锋 | D9: 男 | E9: 42 | F9: 员工 | G9: 京籍 | H9: 良好 | I9: 36.0 | J9: 国内非湖北地区
A10: 13811296966 | B10: 机关党委 财务处 | C10: 程欢兄 | D10: 女 | E10: 35 | F10: 员工 | G10: 京籍 | H10: 良好 | I10: 36.2 | J10: 国内非湖北地区
A11: 13501399360 | B11: 机关党委 党办校办 | C11: 沈崴 | D11: 男 | E11: 46 | F11: 员工 | G11: 京籍 | H11: 良好 | I11: 36.3 | J11: 国内非湖北地区
A12: 13811077268 | B12: 机关党委 党办校办 | C12: 李萌 | D12: 男 | E12: 36 | F12: 员工 | G12: 京籍 | H12: 良好 | I12: 36.3 | J12: 国内非湖北地区
A13: 13466565198 | B13: 机关党委 党办校办 | C13: 孙雅娴 | D13: 女 | E13: 34 | F13: 员工 | G13: 京籍 | H13: 良好 | I13: 36.5 | J13: 国内非湖北地区
... A219: 18201692037 | B219: 机关党委 自然中心 | C219: 柳荫 | D219: 女 | E219: 27 | F219: 员工 | G219: 京籍 | H219: 良好 | I219: 36.6 | J219: 国内非湖北地区
A220: 18617753106 | B220: 后勤处 | C220: 李少华 | D220: 男 | E220: 24 | F220: 员工 | G220: 非京籍 | H220: 良好 | I220: 36.4 | J220: 国内非湖北地区
A221: 18614225398 | B221: 后勤处 | C221: 赵明先 | D221: 男 | E221: 52 | F221: 员工 | G221: 非京籍 | H221: 良好 | I221: 36.2 | J221: 国内非湖北地区
A222: 15712993358 | B222: 后勤处 | C222: 李得锋 | D222: 男 | E222: 59 | F222: 员工 | G222: 非京籍 | H222: 良好 | I222: 36.4 | J222: 国内非湖北地区
A223: 13718332549 | B223: 后勤处 | C223: 李红岭 | D223: 男 | E223: 44 | F223: 员工 | G223: 非京籍 | H223: 良好 | I223: 36.1 | J223: 国内非湖北地区
A224: 13121515833 | B224: 后勤处 | C224: 李世意 | D224: 女 | E224: 44 | F224: 员工 | G224: 非京籍 | H224: 良好 | I224: 35.9 | J224: 国内非湖北地区
A225: 18801165765 | B225: 后勤处 | C225: 郑红玲 | D225: 女 | E225: 43 | F225: 员工 | G225: 非京籍 | H225: 良好 | I225: 35.7 | J225: 国内非湖北地区
A226: 18801091530 | B226: 后勤处 | C226: 左爱景 | D226: 女 | E226: 33 | F226: 员工 | G226: 非京籍 | H226: 良好 | I226: 36.3 | J226: 国内非湖北地区
A227: 15330359585 | B227: 后勤处 | C227: 陈蓉 | D227: 女 | E227: 45 | F227: 员工 | G227: 非京籍 | H227: 良好 | I227: 36.5 | J227: 国内非湖北地区
A228: 15032502123 | B228: 后勤处 | C228: 潘正伟 | D228: 男 | E228: 45 | F228: 员工 | G228: 非京籍 | H228: 良好 | I228: 36.3 | J228: 国内非湖北地区
A229: 15011062811 | B229: 后勤处 | C229: 刘林强 | D229: 男 | E229: 30 | F229: 员工 | G229: 非京籍 | H229: 良好 | I229: 36.5 | J229: 国内非湖北地区
A230: 13240721525 | B230: 后勤处 | C230: 刘艳芬 | D230: 女 | E230: 50 | F230: 员工 | G230: 非京籍 | H230: 良好 | I230: 36 | J230: 国内非湖北地区
A231: 18801289931 | B231: 后勤处 | C231: 耿国连 | D231: 女 | E231: 39 | F231: 员工 | G231: 非京籍 | H231: 良好 | I231: 36.3 | J231: 国内非湖北地区
... A251: 13994411917 | B251: 后勤处 | C251: 张桂芳 | D251: 女 | E251: 42 | F251: 员工 | G251: 非京籍 | H251: 良好 | I251: 36.1 | J251: 国内非湖北地区
A252: 13472330680 | B252: 后勤处 | C252: 张青军 | D252: 男 | F252: 员工 | G252: 非京籍 | H252: 良好 | I252: 36.2 | J252: 国内非湖北地区
A253: 15032226825 | B253: 后勤处 | C253: 李跟金 | D253: 男 | E253: 55 | F253: 员工 | G253: 非京籍 | H253: 良好 | I253: 36 | J253: 国内非湖北地区
A254: 18795033920 | B254: 后勤处 | C254: 马彦虎 | D254: 男 | E254: 48 | F254: 员工 | G254: 非京籍 | H254: 良好 | I254: 36.1 | J254: 国内非湖北地区
A255: 17355856291 | B255: 后勤处 | C255: 张玉芳 | D255: 女 | E255: 37 | F255: 员工 | G255: 非京籍 | H255: 良好 | I255: 36.1 | J255: 国内非湖北地区
A256: 15188667699 | B256: 后勤处 | C256: 徐成霞 | D256: 女 | E256: 42 | F256: 员工 | G256: 非京籍 | H256: 良好 | I256: 36 | J256: 国内非湖北地区
A257: 15313202539 | B257: 后勤处 | C257: 郭淑红 | D257: 女 | E257: 46 | F257: 员工 | G257: 非京籍 | H257: 良好 | I257: 36 | J257: 国内非湖北地区
A258: 14709669194 | B258: 后勤处 | C258: 马有珍 | D258: 男 | E258: 45 | F258: 员工 | G258: 非京籍 | H258: 良好 | I258: 36.1 | J258: 国内非湖北地区
A259: 17695170492 | B259: 后勤处 | C259: 马亮亮 | D259: 男 | E259: 20 | F259: 员工 | G259: 非京籍 | H259: 良好 | I259: 36.4 | J259: 国内非湖北地区
A260: 15027886678 | B260: 后勤处 | C260: 徐成成 | D260: 男 | E260: 31 | F260: 员工 | G260: 非京籍 | H260: 良好 | I260: 36.2 | J260: 国内非湖北地区
A261: 15169704754 | B261: 后勤处 | C261: 刘文举 | D261: 男 | E261: 53 | F261: 员工 | G261: 非京籍 | H261: 良好 | I261: 36.4 | J261: 国内非湖北地区
A262: 15031979898 | B262: 后勤处 | C262: 冯书兰 | D262: 女 | E262: 40 | F262: 员工 | G262: 非京籍 | H262: 良好 | I262: 36.1 | J262: 国内非湖北地区
A263: 15600561967 | B263: 后勤处 | C263: 向德炎 | D263: 男 | E263: 37 | F263: 员工 | G263: 非京籍 | H263: 良好 | I263: 35.8 | J263: 国内非湖北地区
A264: 16604101318 | B264: 后勤处 | C264: 王海龙 | D264: 男 | E264: 48 | F264: 员工 | G264: 非京籍 | H264: 良好 | I264: 36 | J264: 国内非湖北地区
... A469: 15810351608 | B469: 后勤处 | C469: 张杏娥 | D469: 女 | E469: 44 | F469: 员工 | G469: 非京籍 | H469: 良好 | I469: 36.4 | J469: 国内非湖北地区
A470: 13520602268 | B470: 后勤处 | C470: 陈 娜 | D470: 女 | E470: 31 | F470: 员工 | G470: 京籍 | H470: 良好 | I470: 36.3 | J470: 国内非湖北地区
A471: 13718343283 | B471: 后勤处 | C471: 秦中付 | D471: 男 | E471: 42 | F471: 员工 | G471: 非京籍 | H471: 良好 | I471: 36.3 | J471: 国内非湖北地区
A472: 18810912286 | B472: 后勤处 | C472: 张海霞 | D472: 女 | E472: 44 | F472: 员工 | G472: 非京籍 | H472: 良好 | I472: 36.3 | J472: 国内非湖北地区
A473: 13793006385 | B473: 后勤处 | C473: 袁卫香 | D473: 女 | E473: 41 | F473: 员工 | G473: 非京籍 | H473: 良好 | I473: 36.3 | J473: 国内非湖北地区
A474: 13833951347 | B474: 后勤处 | C474: 董芹秀 | D474: 女 | E474: 49 | F474: 员工 | G474: 非京籍 | H474: 良好 | I474: 36.2 | J474: 国内非湖北地区
A475: 13439626318 | B475: 后勤处 | C475: 贾风志 | D475: 男 | E475: 55 | F475: 员工 | G475: 非京籍 | H475: 良好 | I475: 36.3 | J475: 国内非湖北地区
A476: 18810155751 | B476: 后勤处 | C476: 吴彩凤 | D476: 女 | E476: 46 | F476: 员工 | G476: 非京籍 | H476: 良好 | I476: 36.5 | J476: 国内非湖北地区
A477: 18813056312 | B477: 后勤处 | C477: 杨翠荣 | D477: 女 | E477: 54 | F477: 员工 | G477: 非京籍 | H477: 良好 | I477: 36.3 | J477: 国内非湖北地区
A478: 18810156025 | B478: 后勤处 | C478: 秦素芹 | D478: 女 | E478: 44 | F478: 员工 | G478: 非京籍 | H478: 良好 | I478: 36.5 | J478: 国内非湖北地区
A479: 18811707823 | B479: 后勤处 | C479: 王春珍 | D479: 女 | E479: 47 | F479: 员工 | G479: 非京籍 | H479: 良好 | I479: 36.5 | J479: 国内非湖北地区
A480: 18210680376 | B480: 后勤处 | C480: 吴安菊 | D480: 女 | E480: 49 | F480: 员工 | G480: 非京籍 | H480: 良好 | I480: 36.5 | J480: 国内非湖北地区
A481: 13756772347 | B481: 后勤处 | C481: 方 亮 | D481: 男 | E481: 45 | F481: 员工 | G481: 非京籍 | H481: 良好 | I481: 36.5 | J481: 国内非湖北地区
A482: 17812168737 | B482: 后勤处 | C482: 焦国付 | D482: 男 | E482: 51 | F482: 员工 | G482: 非京籍 | H482: 良好 | I482: 36.3 | J482: 国内非湖北地区
A483: 18810156037 | B483: 后勤处 | C483: 韦新爱 | D483: 女 | E483: 40 | F483: 员工 | G483: 非京籍 | H483: 良好 | I483: 36.4 | J483: 国内非湖北地区
A484: 15701185012 | B484: 后勤处 | C484: 郭金山 | D484: 男 | E484: 53 | F484: 员工 | G484: 非京籍 | H484: 良好 | I484: 36.5 | J484: 国内非湖北地区
A485: 13522903875 | B485: 后勤处 | C485: 张宏铃 | D485: 女 | E485: 42 | F485: 员工 | G485: 非京籍 | H485: 良好 | I485: 36.5 | J485: 国内非湖北地区
A486: 13641321903 | B486: 后勤处 | C486: 郑先玉 | D486: 男 | E486: 48 | F486: 员工 | G486: 非京籍 | H486: 良好 | I486: 36.1 | J486: 国内非湖北地区
A487: 18810156391 | B487: 后勤处 | C487: 赵春华 | D487: 女 | E487: 52 | F487: 员工 | G487: 非京籍 | H487: 良好 | I487: 36.4 | J487: 国内非湖北地区
... A501: 13522526047 | B501: 后勤处 | C501: 刘长岭 | D501: 男 | E501: 47 | F501: 员工 | G501: 非京籍 | H501: 良好 | I501: 36.5 | J501: 国内非湖北地区
A502: 13581914577 | B502: 后勤处 | C502: 秦全顺 | D502: 男 | E502: 54 | F502: 员工 | G502: 非京籍 | H502: 良好 | I502: 36.4 | J502: 国内非湖北地区
A503: 13552337686 | B503: 后勤处 | C503: 李建伟 | D503: 男 | E503: 47 | F503: 员工 | G503: 非京籍 | H503: 良好 | I503: 36.3 | J503: 国内非湖北地区
A504: 13161159627 | B504: 后勤处 | C504: 杜铁头 | D504: 男 | E504: 45 | F504: 员工 | G504: 非京籍 | H504: 良好 | I504: 36.4 | J504: 国内非湖北地区
A505: 15910910632 | B505: 后勤处 | C505: 李 芳 | D505: 女 | E505: 51 | F505: 员工 | G505: 非京籍 | H505: 良好 | I505: 36.3 | J505: 国内非湖北地区
A506: 18810170557 | B506: 后勤处 | C506: 邵方善 | D506: 男 | E506: 56 | F506: 员工 | G506: 非京籍 | H506: 良好 | I506: 36.4 | J506: 国内非湖北地区
A507: 18811368839 | B507: 后勤处 | C507: 李素芝 | D507: 女 | E507: 47 | F507: 员工 | G507: 非京籍 | H507: 良好 | I507: 36.3 | J507: 国内非湖北地区
A508: 18210487968 | B508: 后勤处 | C508: 曹玲宏 | D508: 女 | E508: 46 | F508: 员工 | G508: 非京籍 | H508: 良好 | I508: 36.3 | J508: 国内非湖北地区
A509: 15901137959 | B509: 后勤处 | C509: 刘帅成 | D509: 男 | E509: 25 | F509: 员工 | G509: 非京籍 | H509: 良好 | I509: 36.7 | J509: 国内非湖北地区
A510: 15652814325 | B510: 后勤处 | C510: 贾风菊 | D510: 女 | E510: 45 | F510: 员工 | G510: 非京籍 | H510: 良好 | I510: 36.4 | J510: 国内非湖北地区
A511: 13015186711 | B511: 后勤处 | C511: 刘彩霞 | D511: 女 | E511: 34 | F511: 员工 | G511: 非京籍 | H511: 良好 | I511: 36.5 | J511: 国内非湖北地区
A512: 13910776242 | B512: 后勤处 | C512: 启广录 | D512: 男 | E512: 57 | F512: 员工 | G512: 非京籍 | H512: 良好 | I512: 36.2 | J512: 国内非湖北地区
A513: 13621055073 | B513: 后勤处 | C513: 白嘉平 | D513: 男 | E513: 59 | F513: 员工 | G513: 非京籍 | H513: 良好 | I513: 36.1 | J513: 国内非湖北地区
A514: 13261021261 | B514: 后勤处 | C514: 启雨中 | D514: 男 | E514: 52 | F514: 员工 | G514: 非京籍 | H514: 良好 | I514: 35.9 | J514: 国内非湖北地区
A515: 15901464903 | B515: 后勤处 | C515: 王建伟 | D515: 男 | E515: 46 | F515: 员工 | G515: 京籍 | H515: 良好 | I515: 36.3 | J515: 国内非湖北地区
A516: 13717556298 | B516: 后勤处 | C516: 刘德广 | D516: 男 | E516: 55 | F516: 员工 | G516: 非京籍 | H516: 良好 | I516: 36.5 | J516: 国内非湖北地区
A517: 13240367519 | B517: 后勤处 | C517: 韦绍利 | D517: 男 | E517: 49 | F517: 员工 | G517: 非京籍 | H517: 良好 | I517: 36.5 | J517: 国内非湖北地区
A518: 15801272239 | B518: 后勤处 | C518: 刘从现 | D518: 男 | E518: 56 | F518: 员工 | G518: 非京籍 | H518: 良好 | I518: 36.3 | J518: 国内非湖北地区
A519: 15701690419 | B519: 后勤处 | C519: 段志林 | D519: 男 | E519: 55 | F519: 员工 | G519: 非京籍 | H519: 良好 | I519: 36.5 | J519: 国内非湖北地区
A520: 13121933525 | B520: 后勤处 | C520: 刘 兵 | D520: 男 | E520: 45 | F520: 员工 | G520: 非京籍 | H520: 良好 | I520: 36.2 | J520: 国内非湖北地区
A521: 15010322931 | B521: 后勤处 | C521: 任润河 | D521: 男 | E521: 48 | F521: 员工 | G521: 非京籍 | H521: 良好 | I521: 36.2 | J521: 国内非湖北地区
... A592: 18311397083 | B592: 天工公司 | C592: 焦占柱 | D592: 男 | E592: 38 | F592: 员工 | G592: 非京籍 | H592: 健康 | I592: 36.7 | J592: 国内非湖北地区

Sheet Sheet2
A1: 17600224682 | B1: 创新中心 | C1: 张聪 | D1: 男 | E1: 30 | F1: 专任教师 | G1: 京籍 | H1: 国境外 | I1: 德国/亚琛
A2: 18519275568 | B2: 创新中心 | C2: 侯新梅 | D2: 女 | E2: 40 | F2: 专任教师 | G2: 京籍 | H2: 国境外 | I2: 北京
A3: 15201230125 | B3: 机械 | C3: 裴磊 | D3: 女 | E3: 37 | F3: 专任教师 | G3: 京籍 | H3: 国境外 | I3: 加拿大
A4: 13501064921 | B4: 材料 | C4: 韩静涛 | D4: 男 | E4: 63 | F4: 专任教师 | G4: 京籍 | H4: 国境外 | I4: Gosford, New South Wales,Australia
A5: 13621143485 | B5: 材料 | C5: 曹晖 | D5: 男 | E5: 43 | F5: 专任教师 | G5: 京籍 | H5: 国境外 | I5: 新加坡
A6: 13439489101 | B6: 材料 | C6: 耿文通 | D6: 男 | E6: 49 | F6: 专任教师 | G6: 非京籍 | H6: 国境外 | I6: 日本
A7: 15210600103 | B7: 材料 | C7: 高鸿毅 | D7: 男 | E7: 34 | F7: 专任教师 | G7: 京籍 | H7: 国境外 | I7: 美国
A8: 15201452408 | B8: 材料 | C8: 朱立峰 | D8: 男 | E8: 34 | F8: 专任教师 | G8: 京籍 | H8: 国境外 | I8: 美国
A9: 15652383624 | B9: 材料 | C9: 颜鲁春 | D9: 男 | E9: 31 | F9: 专任教师 | G9: 京籍 | H9: 国境外 | I9: 日本
A10: 15201282864 | B10: 材料 | C10: 姚生莲 | D10: 女 | E10: 33 | F10: 专任教师 | G10: 京籍 | H10: 国境外 | I10: 美国/Evanston
A11: 18811392361 | B11: 材料 | C11: 耿东生 | D11: 男 | E11: 41 | F11: 专任教师 | G11: 非京籍 | H11: 国境外 | I11: 加拿大/London
A12: 13522249027 | B12: 材料 | C12: 黄秀兵 | D12: 男 | E12: 35 | F12: 专任教师 | G12: 京籍 | H12: 国境外 | I12: 德国
... A105: 18600196694 | B105: 计通 | C105: 王笑琨 | D105: 男 | E105: 33 | F105: 专任教师 | G105: 京籍 | H105: 国境外 | I105: 荷兰/格罗宁根

Sheet 0305人员
A1: 编号 | B1: 单位-简称 | C1: 人员姓名 | D1: 性别 | E1: 年龄 | F1: 人员类别 （专任教师/员工） | G1: 户籍 （京籍/非京籍） | H1: 联系方式 | I1: 目前健康状况 | J1: 当日体温 （数字） | K1: 当日所在地 （在京/国内湖北地区/国内非湖北地区/国境外） | L1: 现在居住地址 （例：广东省广州市**小区**楼*单元**号） | M1: 已返京或进入教学区 （例，除有出京情况人员外，一直在京且有自有住房，但返回学校集体宿舍居住或一直在京且有自有住房，但返校工作的人员也需填写） | T1: 在京及京外疑似和确诊人员情况（出现疑似和确诊病例，请单附说明） | V1: 备注 | W1: 工号 | X1: 人员姓名 | Z1: 迭代0306
A2: 1 | B2: 材料 | C2: 田文怀 | D2: 男 | E2: 60 | F2: 专任教师 | G2: 京籍 | H2: 13911826233 | I2: 良好 | J2: 36.5 | K2: 在京 | L2: 北京市昌平区流村镇漆园599号 | N2: 非湖北地区（含北京） | Q2: 03-03 | R2: 飞机 | S2: KA1112 | V2: 近14日返京 | W2: A9508387 | X2: 田文怀 | Z2: =VLOOKUP(W2,#REF!,4,0) -> #REF!
A3: 2 | B3: 材料 | C3: 李明华 | D3: 女 | E3: 47 | F3: 专任教师 | G3: 京籍 | H3: 13521693966 | I3: 良好 | J3: 36.2 | K3: 在京 | L3: 北京市海淀区北京科技大学50栋419 | N3: 非湖北地区（含北京） | Q3: 02-22 | R3: 火车 | S3: K196/G2486 | V3: 近14日返京 | W3: B0614253 | X3: 李明华 | Z3: =VLOOKUP(W3,#REF!,4,0) -> #REF!
A4: 3 | B4: 材料 | C4: 孙洒丽 | D4: 女 | E4: 39 | F4: 员工 | G4: 京籍 | H4: 13811489925 | I4: 良好 | J4: 36.2 | K4: 在京 | L4: 北京市海淀区学清路城华园小区六号楼二单元六零四 | N4: 非湖北地区（含北京） | Q4: 02-20 | R4: 飞机 | S4: hu7280 | V4: 近14日返京 | W4: B0711559 | X4: 孙洒丽 | Z4: =VLOOKUP(W4,#REF!,4,0) -> #REF!
A5: 4 | B5: 材料 | C5: 李艺 | D5: 女 | E5: 35 | F5: 员工 | G5: 京籍 | H5: 13718852486 | I5: 良好 | J5: 36.5 | K5: 在京 | L5: 北京市海淀区学院路30号北京科技大学家属楼35栋620 | N5: 非湖北地区（含北京） | Q5: 02-20 | R5: 自驾 | V5: 近14日返京 | W5: B1009470 | X5: 李艺 | Z5: =VLOOKUP(W5,#REF!,4,0) -> #REF!
A6: 5 | B6: 材料 | C6: 夏敏 | D6: 男 | E6: 35 | F6: 专任教师 | G6: 京籍 | H6: 18612537338 | I6: 良好 | J6: 36.2 | K6: 在京 | L6: 北京市海淀区学院路30号北京科技大学38栋-519 | N6: 非湖北地区（含北京） | Q6: 03-01 | R6: 火车 | S6: G308 | V6: 近14日返京 | W6: B1600337 | X6: 夏敏 | Z6: =VLOOKUP(W6,#REF!,4,0) -> #REF!
A7: 6 | B7: 材料 | C7: 贺玮 | D7: 女 | E7: 31 | F7: 专任教师 | G7: 京籍 | H7: 15910864693 | I7: 良好 | J7: 36.3 | K7: 在京 | L7: 北京市海淀区学院路30号北京科技大学30号楼1门401 | N7: 湖北含经停 | Q7: 02-24 | R7: 火车 | S7: G1757,G66 | V7: 近14日返京 | W7: B1633894 | X7: 贺玮 | Z7: =VLOOKUP(W7,#REF!,4,0) -> #REF!
A8: 7 | B8: 材料 | C8: 王文静 | D8: 女 | E8: 30 | F8: 专任教师 | G8: 京籍 | H8: 18810256676 | I8: 良好 | J8: 36.7 | K8: 在京 | L8: 北京市朝阳区小关北里 | N8: 非湖北地区（含北京） | Q8: 02-29 | R8: 自驾 | V8: 近14日返京 | W8: B1821144 | X8: 王文静 | Z8: =VLOOKUP(W8,#REF!,4,0) -> #REF!
A9: 8 | B9: 材料 | C9: 罗乙娲 | D9: 女 | E9: 31 | F9: 专任教师 | G9: 京籍 | H9: 13401189958 | I9: 良好 | J9: 36.5 | K9: 在京 | L9: 北京市海淀区北京科技大学37栋4单元1013 | N9: 非湖北地区（含北京） | Q9: 02-25 | R9: 火车 | S9: G398 | V9: 近14日返京 | W9: B1901987 | X9: 罗乙娲 | Z9: =VLOOKUP(W9,#REF!,4,0) -> #REF!
A10: 9 | B10: 材料 | C10: 李桐桐 | D10: 女 | E10: 33 | F10: 员工 | G10: 非京籍 | H10: 13102102816 | I10: 良好 | J10: 36.4 | K10: 在京 | L10: 北京市顺义区胜利街道幸福西区1号楼一单元1601 | N10: 非湖北地区（含北京） | Q10: 02-23 | R10: 自驾 | V10: 近14日返京 | W10: B1902886 | X10: 李桐桐 | Z10: =VLOOKUP(W10,#REF!,4,0) -> #REF!
A11: 10 | B11: 机关党委 财务处 | C11: 王冰 | D11: 女 | E11: 32 | F11: 员工 | G11: 京籍 | H11: 18701677508 | I11: 良好 | J11: 36.3 | K11: 在京 | L11: 北京市海淀区学院路30号北京科技大学30栋3单元309 | N11: 非湖北地区（含北京） | Q11: 02-23 | R11: 火车 | S11: G6746 | V11: 近14日返京 | W11: B1205774 | X11: 王冰 | Z11: =VLOOKUP(W11,#REF!,4,0) -> #REF!
A12: 11 | B12: 机关党委 财务处 | C12: 贾建楠 | D12: 女 | E12: 31 | F12: 员工 | G12: 非京籍 | H12: 17888816307 | I12: 良好 | J12: 35.9 | K12: 在京 | L12: 北京市海淀区学院路30号北京科技大学16斋519室 | M12: 非湖北地区（含北京） | Q12: 02-26 | R12: 火车 | S12: k2560 | V12: 近14日返京 | W12: B1427804 | X12: 贾建楠 | Z12: =VLOOKUP(W12,#REF!,4,0) -> #REF!
A13: 12 | B13: 机关党委 党办校办 | C13: 查玉喜 | D13: 男 | E13: 50 | F13: 员工 | G13: 非京籍 | H13: 18805330507 | I13: 良好 | J13: 36.2 | K13: 在京 | L13: 北京市海淀区北京科技大学国际交流外专家公寓203 | N13: 非湖北地区（含北京） | Q13: 03-04 | R13: 火车 | S13: G196 | V13: 近14日返京 | W13: B1936176 | X13: 查玉喜 | Z13: =VLOOKUP(W13,#REF!,4,0) -> #REF!
A14: 13 | B14: 机关党委 党办校办 | C14: 郑言军 | D14: 男 | E14: 41 | F14: 员工 | G14: 非京籍 | H14: 13691203207 | I14: 良好 | J14: 36.1 | K14: 在京 | L14: 北京市海淀区北京科技大学会议中心 | M14: 非湖北地区（含北京） | Q14: 03-03 | R14: 自驾 | V14: 近14日返京 | W14: L10151 | X14: 郑言军 | Z14: =VLOOKUP(W14,#REF!,4,0) -> #REF!
A15: 14 | B15: 管理 | C15: 胡波 | D15: 女 | E15: 51 | F15: 专任教师 | G15: 京籍 | H15: 13581932095 | I15: 良好 | J15: 36.3 | K15: 在京 | L15: 北京市海淀区知春路太月园小区9-1802 | N15: 非湖北地区（含北京） | Q15: 02-21 | R15: 飞机 | S15: HX766 | V15: 近14日返京 | W15: A9501988 | X15: 胡波 | Z15: =VLOOKUP(W15,#REF!,4,0) -> #REF!
A16: 15 | B16: 管理 | C16: 赵西爱 | D16: 女 | E16: 50 | F16: 员工 | G16: 京籍 | H16: 13671122998 | I16: 良好 | J16: 36.5 | K16: 在京 | L16: 北京市海淀区学清路逸成东苑8号楼1--302 | N16: 非湖北地区（含北京） | Q16: 02-21 | R16: 飞机 | S16: AC103、CA992 | V16: 近14日返京 | W16: A9502569 | X16: 赵西爱 | Z16: =VLOOKUP(W16,#REF!,4,0) -> #REF!
A17: 16 | B17: 管理 | C17: 刘亚莉 | D17: 女 | E17: 50 | F17: 专任教师 | G17: 京籍 | H17: 18911793819 | I17: 良好 | J17: 36.3 | K17: 在京 | L17: 北京市朝阳区南沙滩2号院天和人家1-1-2102 | N17: 非湖北地区（含北京） | Q17: 02-20 | R17: 飞机 | S17: HU7080 | V17: 近14日返京 | W17: B0404773 | X17: 刘亚莉 | Z17: =VLOOKUP(W17,#REF!,4,0) -> #REF!
A18: 17 | B18: 管理 | C18: 赵霞 | D18: 女 | E18: 47 | F18: 员工 | G18: 京籍 | H18: 13810842269 | I18: 良好 | J18: 36.3 | K18: 在京 | L18: 北京市海淀区芳清园9-1-301 | N18: 非湖北地区（含北京） | Q18: 02-22 | R18: 自驾 | V18: 近14日返京 | W18: B1200325 | X18: 赵霞 | Z18: =VLOOKUP(W18,#REF!,4,0) -> #REF!
A19: 18 | B19: 管理 | C19: 林敏 | D19: 女 | E19: 38 | F19: 专任教师 | G19: 京籍 | H19: 15201558631 | I19: 良好 | J19: 36.2 | K19: 在京 | L19: 北京市海淀区学院路20号24号楼三单元301 | N19: 非湖北地区（含北京） | Q19: 02-21 | R19: 飞机 | S19: MF8113 | V19: 近14日返京 | W19: B1204027 | X19: 林敏 | Z19: =VLOOKUP(W19,#REF!,4,0) -> #REF!
A20: 19 | B20: 管理 | C20: 寇明婷 | D20: 女 | E20: 38 | F20: 专任教师 | G20: 京籍 | H20: 18911320189 | I20: 良好 | J20: 36.1 | K20: 在京 | L20: 北京市海淀区学院路30号北科大校区9栋208 | N20: 非湖北地区（含北京） | Q20: 02-20 | R20: 火车 | S20: G2518 | V20: 近14日返京 | W20: B1607908 | X20: 寇明婷 | Z20: =VLOOKUP(W20,#REF!,4,0) -> #REF!
A21: 20 | B21: 管理 | C21: 方园 | D21: 女 | E21: 33 | F21: 员工 | G21: 非京籍 | H21: 15726665750 | I21: 良好 | J21: 36.5 | K21: 在京 | L21: 北京市昌平区天通苑四区5号楼3A单元501 （公公家） | N21: 非湖北地区（含北京） | Q21: 02-20 | R21: 飞机 | S21: 首航JD5316 | V21: 近14日返京 | W21: B1709058 | X21: 方园 | Z21: =VLOOKUP(W21,#REF!,4,0) -> #REF!
A22: 21 | B22: 管理 | C22: 徐迎迎 | D22: 女 | E22: 30 | F22: 专任教师 | G22: 京籍 | H22: 13401160921 | I22: 良好 | J22: 36.3 | K22: 在京 | L22: 北京市海淀区二里庄小区25号楼4单元601 | N22: 非湖北地区（含北京） | Q22: 02-26 | R22: 火车 | S22: G5531/G60 | V22: 近14日返京 | W22: B1806373 | X22: 徐迎迎 | Z22: =VLOOKUP(W22,#REF!,4,0) -> #REF!
A23: 22 | B23: 管理 | C23: 崔鸿飞 | D23: 女 | E23: 32 | F23: 专任教师 | G23: 京籍 | H23: 13439136535 | I23: 良好 | J23: 36.5 | K23: 在京 | L23: 北京市海淀区安宁庄路11号院41-3-102 | N23: 非湖北地区（含北京） | Q23: 02-22 | R23: 自驾 | V23: 近14日返京 | W23: B1911355 | X23: 崔鸿飞 | Z23: =VLOOKUP(W23,#REF!,4,0) -> #REF!
A24: 23 | B24: 管理 | C24: 刘熙雯 | D24: 女 | E24: 26 | F24: 员工 | G24: 京籍 | H24: 18612551925 | I24: 良好 | J24: 36.5 | K24: 在京 | L24: 北京市朝阳区望京大西洋新城金石美苑313-2-502 | N24: 非湖北地区（含北京） | Q24: 02-20 | R24: 飞机 | S24: CA1122 | V24: 近14日返京 | W24: B1929935 | X24: 刘熙雯 | Z24: =VLOOKUP(W24,#REF!,4,0) -> #REF!
A25: 24 | B25: 管理 | C25: 刘敏 | D25: 女 | E25: 38 | F25: 员工 | G25: 非京籍 | H25: 13810369198 | I25: 良好 | J25: 36.5 | K25: 在京 | L25: 北京市海淀区北京科技大学16斋342 | M25: 非湖北地区（含北京） | Q25: 02-20 | R25: 火车 | S25: G610 | V25: 近14日返京 | W25: L00402 | X25: 刘敏 | Z25: =VLOOKUP(W25,#REF!,4,0) -> #REF!
A26: 25 | B26: 管理 | C26: 张辉 | D26: 男 | E26: 35 | F26: 员工 | G26: 非京籍 | H26: 15801047839 | I26: 良好 | J26: 36.0 | K26: 在京 | L26: 北京市海淀区北京科技大学会议中心1005 | M26: 非湖北地区（含北京） | Q26: 02-20 | R26: 火车 | S26: Y502 | V26: 近14日返京 | W26: L10478 | X26: 张辉 | Z26: =VLOOKUP(W26,#REF!,4,0) -> #REF!
A27: 26 | B27: 管理 | C27: 孟丹 | D27: 女 | E27: 38 | F27: 员工 | G27: 非京籍 | H27: 13641048353 | I27: 良好 | J27: 36.3 | K27: 在京 | L27: 北京市海淀区北京科技大学16斋202 | M27: 非湖北地区（含北京） | Q27: 02-22 | R27: 火车 | S27: D6 | V27: 近14日返京 | W27: L11009 | X27: 孟丹 | Z27: =VLOOKUP(W27,#REF!,4,0) -> #REF!
A28: 27 | B28: 创新中心 | C28: 杨涛 | D28: 男 | E28: 32 | F28: 专任教师 | G28: 京籍 | H28: 15652934695 | I28: 良好 | J28: 36.1 | K28: 在京 | L28: 北京市东城区海淀区学院路30号北京科技大学 | M28: 非湖北地区（含北京） | Q28: 02-23 | R28: 火车 | S28: Z227 | V28: 近14日返京 | W28: B1807484 | X28: 杨涛 | Z28: =VLOOKUP(W28,#REF!,4,0) -> #REF!
A29: 28 | B29: 冶金国重 | C29: 郭磊 | D29: 男 | E29: 33 | F29: 专任教师 | G29: 京籍 | H29: 13811906806 | I29: 良好 | J29: 36.5 | K29: 在京 | L29: 北京市昌平区西环路蓝郡嘉苑1326 | N29: 非湖北地区（含北京） | Q29: 02-23 | R29: 飞机 | S29: CA984 | V29: 近14日返京 | W29: B1611240 | X29: 郭磊 | Z29: =VLOOKUP(W29,#REF!,4,0) -> #REF!
A30: 29 | B30: 高工 | C30: 赵志毅 | D30: 男 | E30: 57 | F30: 专任教师 | G30: 京籍 | H30: 13311019097 | I30: 良好 | J30: 36.5 | K30: 在京 | L30: 北京市朝阳区林萃路澳林春天小区29/1/902 | N30: 非湖北地区（含北京） | Q30: 02-26 | R30: 飞机 | S30: KL4303 | V30: 近14日返京 | W30: A8403251 | X30: 赵志毅 | Z30: =VLOOKUP(W30,#REF!,4,0) -> #REF!
A31: 30 | B31: 高工 | C31: 秦子 | D31: 男 | E31: 36 | F31: 专任教师 | G31: 京籍 | H31: 15210604456 | I31: 良好 | J31: 36.4 | K31: 在京 | L31: 北京市海淀区学院路30号北京科技大学35栋620 | N31: 非湖北地区（含北京） | Q31: 02-20 | R31: 自驾 | V31: 近14日返京 | W31: B1206249 | X31: 秦子 | Z31: =VLOOKUP(W31,#REF!,4,0) -> #REF!
A32: 31 | B32: 工研院 | C32: 詹智敏 | D32: 男 | E32: 33 | F32: 员工 | G32: 京籍 | H32: 13811703428 | I32: 良好 | J32: 36.5 | K32: 在京 | L32: 北京市朝阳区北京市朝阳区丝竹园小区12号楼401室 | N32: 非湖北地区（含北京） | Q32: 02-25 | R32: 火车 | S32: G322 | V32: 近14日返京 | W32: 13811703428 | X32: 詹智敏 | Z32: =VLOOKUP(W32,#REF!,4,0) -> #REF!
A33: 32 | B33: 工研院 | C33: 张建国 | D33: 男 | E33: 28 | F33: 员工 | G33: 非京籍 | H33: 18611430297 | I33: 良好 | J33: 36.4 | K33: 在京 | L33: 北京市昌平区绿城阳光小区甲5四单元401 | N33: 非湖北地区（含北京） | Q33: 02-21 | R33: 自驾 | V33: 近14日返京 | W33: 18611430297 | X33: 张建国 | Z33: =VLOOKUP(W33,#REF!,4,0) -> #REF!
A34: 33 | B34: 工研院 | C34: 王磊 | D34: 男 | E34: 33 | F34: 专任教师 | G34: 京籍 | H34: 18612726091 | I34: 良好 | J34: 36.2 | K34: 在京 | L34: 北京市海淀区北京科技大学21号楼406 | N34: 非湖北地区（含北京） | Q34: 02-25 | R34: 火车 | S34: G6746 | V34: 近14日返京 | W34: B1925485 | X34: 王磊 | Z34: =VLOOKUP(W34,#REF!,4,0) -> #REF!
A35: 34 | B35: 机关党委 工会 | C35: 马特 | D35: 女 | E35: 37 | F35: 员工 | G35: 京籍 | H35: 15901532944 | I35: 良好 | J35: 36.6 | K35: 在京 | L35: 北京市海淀区北京科技大学50栋303 | N35: 非湖北地区（含北京） | Q35: 02-20 | R35: 自驾 | V35: 近14日返京 | W35: B1002329 | X35: 马特 | Z35: =VLOOKUP(W35,#REF!,4,0) -> #REF!
A36: 35 | B36: 管庄 | C36: 高航 | D36: 女 | E36: 56 | F36: 员工 | G36: 京籍 | H36: 13611004994 | I36: 良好 | J36: 36.2 | K36: 在京 | L36: 北京市朝阳区管庄北一里4号楼1-601 | N36: 非湖北地区（含北京） | Q36: 02-20 | R36: 火车 | S36: G9102 | V36: 近14日返京 | W36: A8505582 | X36: 高航 | Z36: =VLOOKUP(W36,#REF!,4,0) -> #REF!
A37: 36 | B37: 管庄 | C37: 袁振华 | D37: 女 | E37: 54 | F37: 员工 | G37: 京籍 | H37: 15010667496 | I37: 良好 | J37: 36.5 | K37: 在京 | L37: 北京市朝阳区望京融科橄榄城8-1-1201 | N37: 非湖北地区（含北京） | Q37: 03-04 | R37: 飞机 | S37: NH105、NH961 | V37: 近14日返京 | W37: A9804482 | X37: 袁振华 | Z37: =VLOOKUP(W37,#REF!,4,0) -> #REF!
A38: 37 | B38: 管庄 | C38: 刘亚宁 | D38: 女 | E38: 45 | F38: 员工 | G38: 京籍 | H38: 18811539675 | I38: 良好 | J38: 36.4 | K38: 在京 | L38: 北京市朝阳区康家园小区7号楼501 | N38: 非湖北地区（含北京） | Q38: 03-04 | R38: 飞机 | S38: n?h?961、nh105 | V38: 近14日返京 | W38: B0403768 | X38: 刘亚宁 | Z38: =VLOOKUP(W38,#REF!,4,0) -> #REF!
A39: 38 | B39: 管庄 | C39: 马黎 | D39: 女 | E39: 39 | F39: 员工 | G39: 京籍 | H39: 18618176807 | I39: 良好 | J39: 36.1 | K39: 在京 | L39: 北京市朝阳区柏林爱乐16-4-402 | N39: 非湖北地区（含北京） | Q39: 02-23 | R39: 飞机 | S39: CA1262 | V39: 近14日返京 | W39: B1553051 | X39: 马黎 | Z39: =VLOOKUP(W39,#REF!,4,0) -> #REF!
A40: 39 | B40: 管庄 | C40: 解心语 | D40: 女 | E40: 28 | F40: 员工 | G40: 非京籍 | H40: 15701363319 | I40: 良好 | J40: 36.4 | K40: 在京 | L40: 北京市海淀区建材城东路富力桃园小区A区A12－707 | N40: 非湖北地区（含北京） | Q40: 02-22 | R40: 自驾 | V40: 近14日返京 | W40: B1803676 | X40: 解心语 | Z40: =VLOOKUP(W40,#REF!,4,0) -> #REF!
A41: 40 | B41: 管庄 | C41: 曹蕾 | D41: 女 | E41: 27 | F41: 员工 | G41: 京籍 | H41: 13439687236 | I41: 良好 | J41: 36.3 | K41: 在京 | L41: 北京市海淀区学院路30号 北京科技大学会议中心601 | M41: 非湖北地区（含北京） | Q41: 02-20 | R41: 火车 | S41: K1165 | V41: 近14日返京 | W41: B1816059 | X41: 曹蕾 | Z41: =VLOOKUP(W41,#REF!,4,0) -> #REF!
A42: 41 | B42: 管庄 | C42: 高霞 | D42: 女 | E42: 27 | F42: 员工 | G42: 非京籍 | H42: 18800153677 | I42: 良好 | J42: 36.5 | K42: 在京 | L42: 北京市海淀区北京科技大学会议中心503 | M42: 非湖北地区（含北京） | Q42: 02-20 | R42: 火车 | S42: G186 | V42: 近14日返京 | W42: B1904806 | X42: 高霞 | Z42: =VLOOKUP(W42,#REF!,4,0) -> #REF!
A43: 42 | B43: 科学中心 | C43: 王鑫田 | D43: 女 | E43: 27 | F43: 员工 | G43: 非京籍 | H43: 18811393680 | I43: 良好 | J43: 36.2 | K43: 在京 | L43: 北京市昌平区北京科技大学昌平创新园区博士后公寓105 | M43: 非湖北地区（含北京） | Q43: 02-20 | R43: 火车 | S43: G2486 | V43: 近14日返京 | W43: B1903210 | X43: 王鑫田 | Z43: =VLOOKUP(W43,#REF!,4,0) -> #REF!
A44: 43 | B44: 机械 | C44: 李威 | D44: 男 | E44: 53 | F44: 专任教师 | G44: 京籍 | H44: 13691255573 | I44: 良好 | J44: 36.4 | K44: 在京 | L44: 北京市海淀区北京科技大学30栋503号 | N44: 非湖北地区（含北京） | Q44: 02-21 | R44: 飞机 | S44: CX873、KA900 | V44: 近14日返京 | W44: A9802902 | X44: 李威 | Z44: =VLOOKUP(W44,#REF!,4,0) -> #REF!
A45: 44 | B45: 机械 | C45: 张大志 | D45: 男 | E45: 49 | F45: 专任教师 | G45: 京籍 | H45: 13683088070 | I45: 良好 | J45: 36.2 | K45: 在京 | L45: 北京市海淀区北京科技大学19栋212号 | N45: 非湖北地区（含北京） | Q45: 02-24 | R45: 飞机 | S45: SU204 | V45: 近14日返京 | W45: B0001958 | X45: 张大志 | Z45: =VLOOKUP(W45,#REF!,4,0) -> #REF!
A46: 45 | B46: 机械 | C46: 李亦芒 | D46: 男 | E46: 51 | F46: 专任教师 | G46: 京籍 | H46: 18511598600 | I46: 良好 | J46: 36.3 | K46: 在京 | L46: 北京市海淀区双榆树北里甲14楼2-202 | N46: 非湖北地区（含北京） | Q46: 03-03 | R46: 火车 | S46: G672 | V46: 近14日返京 | W46: B0511765 | X46: 李亦芒 | Z46: =VLOOKUP(W46,#REF!,4,0) -> #REF!
A47: 46 | B47: 机械 | C47: 韩天 | D47: 男 | E47: 43 | F47: 专任教师 | G47: 京籍 | H47: 13146339921 | I47: 良好 | J47: 36.5 | K47: 在京 | L47: 北京市海淀区北京科技大学50栋221 | N47: 非湖北地区（含北京） | Q47: 02-20 | R47: 飞机 | S47: MH0318 | V47: 近14日返京 | W47: B0605572 | X47: 韩天 | Z47: =VLOOKUP(W47,#REF!,4,0) -> #REF!
A48: 47 | B48: 机械 | C48: 邱林宾 | D48: 男 | E48: 30 | F48: 员工 | G48: 京籍 | H48: 13910834082 | I48: 良好 | J48: 36.6 | K48: 在京 | L48: 北京市海淀区北京科技大学16斋330号 | M48: 非湖北地区（含北京） | P48: 2-29 12:36 | Q48: 03-01 | R48: 火车 | S48: z70 | V48: 近14日返京 | W48: B1414037 | X48: 邱林宾 | Z48: =VLOOKUP(W48,#REF!,4,0) -> #REF!
A49: 48 | B49: 机械 | C49: 管奔 | D49: 男 | E49: 35 | F49: 专任教师 | G49: 京籍 | H49: 15810548466 | I49: 良好 | J49: 36.5 | K49: 在京 | L49: 北京市海淀区学清路逸成东苑8号楼1单元602 | N49: 非湖北地区（含北京） | Q49: 02-26 | R49: 火车 | S49: G196 | V49: 近14日返京 | W49: B1535159 | X49: 管奔 | Z49: =VLOOKUP(W49,#REF!,4,0) -> #REF!
A50: 49 | B50: 机械 | C50: 钱凌云 | D50: 女 | E50: 34 | F50: 专任教师 | G50: 京籍 | H50: 13011260416 | I50: 良好 | J50: 36.6 | K50: 在京 | L50: 北京市海淀区王庄路27号院7号楼7单元722 | N50: 非湖北地区（含北京） | Q50: 02-25 | R50: 火车 | S50: G46 | V50: 近14日返京 | W50: B1715905 | X50: 钱凌云 | Z50: =VLOOKUP(W50,#REF!,4,0) -> #REF!
A51: 50 | B51: 机械 | C51: 喻蕾 | D51: 女 | E51: 32 | F51: 专任教师 | G51: 京籍 | H51: 18811058968 | I51: 良好 | J51: 36.4 | K51: 在京 | L51: 北京市朝阳区城市月光8号楼2109 | N51: 非湖北地区（含北京） | Q51: 02-27 | R51: 飞机 | S51: HU7636 | V51: 近14日返京 | W51: B1716268 | X51: 喻蕾 | Z51: =VLOOKUP(W51,#REF!,4,0) -> #REF!
A52: 51 | B52: 机械 | C52: 刘博深 | D52: 男 | E52: 31 | F52: 专任教师 | G52: 京籍 | H52: 18810330052 | I52: 良好 | J52: 36.3 | K52: 在京 | L52: 北京市海淀区水木天成小区3号楼705 | N52: 非湖北地区（含北京） | Q52: 03-02 | R52: 飞机 | S52: CA1602 | V52: 近14日返京 | W52: B1822467 | X52: 刘博深 | Z52: =VLOOKUP(W52,#REF!,4,0) -> #REF!
A53: 52 | B53: 机关党委 基教中心 | C53: 曹振素 | D53: 女 | E53: 31 | F53: 员工 | G53: 非京籍 | H53: 15801291283 | I53: 良好 | J53: 36.4 | K53: 在京 | L53: 北京市朝阳区酒钱桥一街坊四号楼五单元201 | N53: 非湖北地区（含北京） | Q53: 02-29 | R53: 自驾 | V53: 近14日返京 | W53: B1623678 | X53: 曹振素 | Z53: =VLOOKUP(W53,#REF!,4,0) -> #REF!
A54: 53 | B54: 机关党委 基教中心 | C54: 杨婷婷 | D54: 女 | E54: 32 | F54: 员工 | G54: 非京籍 | H54: 18201011126 | I54: 良好 | J54: 36.4 | K54: 在京 | L54: 北京市昌平区昌平区水岸庄园17-8-102 | N54: 非湖北地区（含北京） | Q54: 02-26 | R54: 自驾 | V54: 近14日返京 | W54: B1624259 | X54: 杨婷婷 | Z54: =VLOOKUP(W54,#REF!,4,0) -> #REF!
A55: 54 | B55: 计通 | C55: 姚红串 | D55: 女 | E55: 43 | F55: 员工 | G55: 京籍 | H55: 15210920915 | I55: 良好 | J55: 36.5 | K55: 在京 | L55: 北京市海淀区学院路北京科技大学49栋708 | N55: 非湖北地区（含北京） | Q55: 02-22 | R55: 火车 | S55: D2004 | V55: 近14日返京 | W55: B0504246 | X55: 姚红串 | Z55: =VLOOKUP(W55,#REF!,4,0) -> #REF!
A56: 55 | B56: 计通 | C56: 张磊 | D56: 女 | E56: 36 | F56: 员工 | G56: 京籍 | H56: 13811710515 | I56: 良好 | J56: 36.3 | K56: 在京 | L56: 北京市海淀区二里庄小区13号楼2-202 | N56: 非湖北地区（含北京） | Q56: 02-28 | R56: 飞机 | S56: HU7080 | V56: 近14日返京 | W56: B0906056 | X56: 张磊 | Z56: =VLOOKUP(W56,#REF!,4,0) -> #REF!
A57: 56 | B57: 计通 | C57: 李爽 | D57: 女 | E57: 40 | F57: 员工 | G57: 京籍 | H57: 13911523039 | I57: 良好 | J57: 36.5 | K57: 在京 | L57: 北京市朝阳区仰山路天月园7号楼1单元201 | N57: 非湖北地区（含北京） | Q57: 02-25 | R57: 飞机 | S57: HU7636 | V57: 近14日返京 | W57: B1111331 | X57: 李爽 | Z57: =VLOOKUP(W57,#REF!,4,0) -> #REF!
A58: 57 | B58: 计通 | C58: 王铮 | D58: 男 | E58: 34 | F58: 专任教师 | G58: 京籍 | H58: 13701249357 | I58: 良好 | J58: 36 | K58: 在京 | L58: 北京市海淀区城华园8号楼1602 | N58: 非湖北地区（含北京） | Q58: 02-25 | R58: 火车 | S58: g72 | V58: 近14日返京 | W58: B1811988 | X58: 王铮 | Z58: =VLOOKUP(W58,#REF!,4,0) -> #REF!
A59: 58 | B59: 机关党委 教务处 | C59: 李想 | D59: 女 | E59: 36 | F59: 员工 | G59: 京籍 | H59: 18611286364 | I59: 良好 | J59: 36.0 | K59: 在京 | L59: 北京市朝阳区北沙滩11号懿品阁A1107 | N59: 非湖北地区（含北京） | Q59: 02-23 | R59: 火车 | S59: G398 | V59: 近14日返京 | W59: B1102120 | X59: 李想 | Z59: =VLOOKUP(W59,#REF!,4,0) -> #REF!
A60: 59 | B60: 机关党委 教务处 | C60: 汪兴 | D60: 男 | E60: 36 | F60: 员工 | G60: 京籍 | H60: 13811419319 | I60: 良好 | J60: 36.6 | K60: 在京 | L60: 北京市海淀区学院路30号 | N60: 非湖北地区（含北京） | Q60: 02-21 | R60: 自驾 | V60: 近14日返京 | W60: B1204769 | X60: 汪兴 | Z60: =VLOOKUP(W60,#REF!,4,0) -> #REF!
A61: 60 | B61: 科技史 | C61: 程瑜 | D61: 女 | E61: 35 | F61: 专任教师 | G61: 京籍 | H61: 13611067988 | I61: 良好 | J61: 36.5 | K61: 在京 | L61: 北京市海淀区学院路30号北京科技大学家属区7栋4单元311 | N61: 非湖北地区（含北京） | Q61: 02-22 | R61: 自驾 | V61: 近14日返京 | W61: B1003228 | X61: 程瑜 | Z61: =VLOOKUP(W61,#REF!,4,0) -> #REF!
A62: 61 | B62: 机关党委 科研院 | C62: 郭绍琼 | D62: 女 | E62: 60 | F62: 员工 | G62: 京籍 | H62: 13439678866 | I62: 良好 | J62: 36.6 | K62: 在京 | L62: 北京市昌平区昌平区回龙观流星花园一区3008号 | N62: 非湖北地区（含北京） | Q62: 02-20 | R62: 飞机 | S62: CA984 | V62: 近14日返京 | W62: B0200853 | X62: 郭绍琼 | Z62: =VLOOKUP(W62,#REF!,4,0) -> #REF!
A63: 62 | B63: 马院 | C63: 于国辉 | D63: 男 | E63: 35 | F63: 专任教师 | G63: 京籍 | H63: 18801280165 | I63: 良好 | J63: 36.4 | K63: 在京 | L63: 北京市海淀区观景园2号楼4单元202 | N63: 非湖北地区（含北京） | Q63: 02-20 | R63: 火车 | S63: G470 | V63: 近14日返京 | W63: B1800767 | X63: 于国辉 | Z63: =VLOOKUP(W63,#REF!,4,0) -> #REF!
A64: 63 | B64: 马院 | C64: 卢文超 | D64: 男 | E64: 33 | F64: 专任教师 | G64: 京籍 | H64: 13011298816 | I64: 良好 | J64: 36.5 | K64: 在京 | L64: 北京市海淀区唐宁one2B516 | N64: 非湖北地区（含北京） | Q64: 02-24 | R64: 自驾 | V64: 近14日返京 | W64: B1826705 | X64: 卢文超 | Z64: =VLOOKUP(W64,#REF!,4,0) -> #REF!
A65: 64 | B65: 马院 | C65: 魏丽华 | D65: 女 | E65: 41 | F65: 专任教师 | G65: 京籍 | H65: 13831150589 | I65: 良好 | J65: 36.3 | K65: 在京 | L65: 北京市西城区裕民东里中国科技馆宿舍10-3-102 | N65: 非湖北地区（含北京） | Q65: 03-05 | R65: 自驾 | V65: 近14日返京 | W65: B1930359 | X65: 魏丽华 | Z65: =VLOOKUP(W65,#REF!,4,0) -> #REF!
A66: 65 | B66: 能环 | C66: 袁蓉芳 | D66: 女 | E66: 33 | F66: 专任教师 | G66: 京籍 | H66: 13811792081 | I66: 良好 | J66: 36.5 | K66: 在京 | L66: 北京市海淀区宝盛里小区1-6-802 | N66: 非湖北地区（含北京） | Q66: 02-29 | R66: 自驾 | V66: 近14日返京 | W66: B1415784 | X66: 袁蓉芳 | Z66: =VLOOKUP(W66,#REF!,4,0) -> #REF!
A67: 66 | B67: 能环 | C67: 高明 | D67: 女 | E67: 35 | F67: 专任教师 | G67: 京籍 | H67: 18510989697 | I67: 良好 | J67: 36.6 | K67: 在京 | L67: 北京市昌平区沙河镇北街家园八区2-2-802 | N67: 非湖北地区（含北京） | Q67: 02-25 | R67: 飞机 | S67: CA1644 | V67: 近14日返京 | W67: B1615048 | X67: 高明 | Z67: =VLOOKUP(W67,#REF!,4,0) -> #REF!
A68: 67 | B68: 机关党委 期刊中心 | C68: 唐帅 | D68: 女 | E68: 32 | F68: 员工 | G68: 京籍 | H68: 15910350206 | I68: 良好 | J68: 36.5 | K68: 在京 | L68: 北京市朝阳区华严北里39号楼3单元601 | N68: 非湖北地区（含北京） | Q68: 02-21 | R68: 火车 | S68: C1512 Z62 | V68: 近14日返京 | W68: B1936388 | X68: 唐帅 | Z68: =VLOOKUP(W68,#REF!,4,0) -> #REF!
A69: 68 | B69: 机关党委 人事处 | C69: 白云菲 | D69: 女 | E69: 34 | F69: 员工 | G69: 京籍 | H69: 13810864090 | I69: 良好 | J69: 36.9 | K69: 在京 | L69: 北京市朝阳区太阳公元南区2号楼2单元902 | N69: 非湖北地区（含北京） | Q69: 02-24 | R69: 自驾 | V69: 近14日返京 | W69: B1106776 | X69: 白云菲 | Z69: =VLOOKUP(W69,#REF!,4,0) -> #REF!
A70: 69 | B70: 机关党委 人事处 | C70: 王泽汉 | D70: 男 | E70: 30 | F70: 员工 | G70: 京籍 | H70: 13488699448 | I70: 良好 | J70: 36.4 | K70: 在京 | L70: 北京市海淀区学院路30号北京科技大学20号楼305 | N70: 非湖北地区（含北京） | Q70: 02-20 | R70: 飞机 | S70: CA1834 | V70: 近14日返京 | W70: B1406149 | X70: 王泽汉 | Z70: =VLOOKUP(W70,#REF!,4,0) -> #REF!
A71: 70 | B71: 生物工程与传感技术研究中心 | C71: 董海峰 | D71: 男 | E71: 38 | F71: 专任教师 | G71: 京籍 | H71: 13810592546 | I71: 良好 | J71: 36.3 | K71: 在京 | L71: 北京市海淀区学院路30号北京科技大学 2栋1单元101 | N71: 非湖北地区（含北京） | Q71: 02-20 | R71: 火车 | S71: g84 | V71: 近14日返京 | W71: B1307469 | X71: 董海峰 | Z71: =VLOOKUP(W71,#REF!,4,0) -> #REF!
A72: 71 | B72: 生物工程与传感技术研究中心 | C72: 白云龙 | D72: 男 | E72: 31 | F72: 专任教师 | G72: 京籍 | H72: 13717724919 | I72: 良好 | J72: 36.4 | K72: 在京 | L72: 北京市海淀区学院路30号22栋一单元103 | M72: 非湖北地区（含北京） | Q72: 02-21 | R72: 自驾 | V72: 近14日返京 | W72: B1824907 | X72: 白云龙 | Z72: =VLOOKUP(W72,#REF!,4,0) -> #REF!
A73: 72 | B73: 数理 | C73: 陈明文 | D73: 男 | E73: 60 | F73: 专任教师 | G73: 京籍 | H73: 13717631781 | I73: 良好 | J73: 36.2 | K73: 在京 | L73: 北京市昌平区昌平区天通苑北一区16楼7单元1203 | N73: 非湖北地区（含北京） | Q73: 02-20 | R73: 飞机 | S73: CA1370 | V73: 近14日返京 | W73: A9100971 | X73: 陈明文 | Z73: =VLOOKUP(W73,#REF!,4,0) -> #REF!
A74: 73 | B74: 数理 | C74: 魏培君 | D74: 男 | E74: 56 | F74: 专任教师 | G74: 京籍 | H74: 13011057325 | I74: 良好 | J74: 36.4 | K74: 在京 | L74: 北京市昌平区北京市昌平区天通苑西三区29楼2304室 | N74: 非湖北地区（含北京） | Q74: 02-23 | R74: 飞机 | S74: MF8396 | V74: 近14日返京 | W74: B0310436 | X74: 魏培君 | Z74: =VLOOKUP(W74,#REF!,4,0) -> #REF!
A75: 74 | B75: 数理 | C75: 孙文荣 | D75: 男 | E75: 28 | F75: 专任教师 | G75: 京籍 | H75: 18810547212 | I75: 良好 | J75: 36.5 | K75: 在京 | L75: 北京市东城区田村山南路15号7单元5号楼402 | N75: 非湖北地区（含北京） | Q75: 02-22 | R75: 飞机 | S75: CA984 | V75: 近14日返京 | W75: B1617806 | X75: 孙文荣 | Z75: =VLOOKUP(W75,#REF!,4,0) -> #REF!
A76: 75 | B76: 数理 | C76: 王贝 | D76: 男 | E76: 30 | F76: 专任教师 | G76: 非京籍 | H76: 15210565118 | I76: 良好 | J76: 36.4 | K76: 在京 | L76: 北京市海淀区学院路30号21栋409 | M76: 非湖北地区（含北京） | Q76: 03-01 | R76: 火车 | S76: G7486转G32 | V76: 近14日返京 | W76: B1901881 | X76: 王贝 | Z76: =VLOOKUP(W76,#REF!,4,0) -> #REF!
A77: 76 | B77: 体育部 | C77: 章荣江 | D77: 男 | E77: 59 | F77: 专任教师 | G77: 京籍 | H77: 13611082657 | I77: 良好 | J77: 36.3 | K77: 在京 | L77: 北京市海淀区牡丹园东里13号楼3单元101室 | N77: 非湖北地区（含北京） | Q77: 03-01 | R77: 火车 | S77: G352次 | V77: 近14日返京 | W77: A8206684 | X77: 章荣江 | Z77: =VLOOKUP(W77,#REF!,4,0) -> #REF!
A78: 77 | B78: 体育部 | C78: 陈孺 | D78: 女 | E78: 52 | F78: 专任教师 | G78: 京籍 | H78: 13611368658 | I78: 良好 | J78: 36.6 | K78: 在京 | L78: 北京市海淀区北京科技大学50栋222 | N78: 非湖北地区（含北京） | Q78: 02-26 | R78: 飞机 | S78: cz 3281 | V78: 近14日返京 | W78: A8902473 | X78: 陈孺 | Z78: =VLOOKUP(W78,#REF!,4,0) -> #REF!
A79: 78 | B79: 机关党委 图书馆 | C79: 晋培利 | D79: 女 | E79: 40 | F79: 员工 | G79: 非京籍 | H79: 15501126088 | I79: 良好 | J79: 36.5 | K79: 在京 | L79: 北京市海淀区学院路30号北京科技大学家属区38栋620 | N79: 非湖北地区（含北京） | Q79: 03-03 | R79: 火车 | S79: G806 | V79: 近14日返京 | W79: B1603352 | X79: 晋培利 | Z79: =VLOOKUP(W79,#REF!,4,0) -> #REF!
A80: 79 | B80: 土资 | C80: 欧盛南 | D80: 男 | E80: 39 | F80: 员工 | G80: 京籍 | H80: 13241879211 | I80: 良好 | J80: 36.5 | K80: 在京 | L80: 北京市海淀区北京科技大学50栋204室 | N80: 湖北含经停 | Q80: 02-21 | R80: 火车 | S80: Z202 | V80: 近14日返京 | W80: B0603880 | X80: 欧盛南 | Z80: =VLOOKUP(W80,#REF!,4,0) -> #REF!
A81: 80 | B81: 土资 | C81: 谢慧 | D81: 女 | E81: 43 | F81: 专任教师 | G81: 京籍 | H81: 13681060593 | I81: 良好 | J81: 36 | K81: 在京 | L81: 北京市海淀区北京科技大学50栋622 | N81: 非湖北地区（含北京） | P81: 2-25 9:37 | Q81: 03-04 | R81: 飞机 | S81: ca1224 | V81: 近14日返京 | W81: B0613248 | X81: 谢慧 | Z81: =VLOOKUP(W81,#REF!,4,0) -> #REF!
A82: 81 | B82: 土资 | C82: 由爽 | D82: 女 | E82: 37 | F82: 专任教师 | G82: 京籍 | H82: 18600808990 | I82: 良好 | J82: 36.4 | K82: 在京 | L82: 北京市朝阳区来广营乡清河营南街华贸城7号院10-2-503 | N82: 非湖北地区（含北京） | Q82: 02-26 | R82: 自驾 | V82: 近14日返京 | W82: B1307787 | X82: 由爽 | Z82: =VLOOKUP(W82,#REF!,4,0) -> #REF!
A83: 82 | B83: 土资 | C83: 徐怀兵 | D83: 男 | E83: 36 | F83: 专任教师 | G83: 京籍 | H83: 13552979891 | I83: 良好 | J83: 36.3 | K83: 在京 | L83: 北京市海淀区学院路30号4栋301 | N83: 非湖北地区（含北京） | Q83: 02-25 | R83: 自驾 | V83: 近14日返京 | W83: B1527807 | X83: 徐怀兵 | Z83: =VLOOKUP(W83,#REF!,4,0) -> #REF!
A84: 83 | B84: 土资 | C84: 刘文超 | D84: 男 | E84: 35 | F84: 专任教师 | G84: 京籍 | H84: 18911854069 | I84: 良好 | J84: 36.2 | K84: 在京 | L84: 北京市海淀区志新北里小区6号楼3单元601 | N84: 非湖北地区（含北京） | Q84: 02-23 | R84: 飞机 | S84: NS8018 | V84: 近14日返京 | W84: B1701026 | X84: 刘文超 | Z84: =VLOOKUP(W84,#REF!,4,0) -> #REF!
A85: 84 | B85: 土资 | C85: 郭洋 | D85: 女 | E85: 30 | F85: 专任教师 | G85: 京籍 | H85: 18810075221 | I85: 良好 | J85: 36.5 | K85: 在京 | L85: 北京市海淀区16斋112室 | M85: 非湖北地区（含北京） | Q85: 02-24 | R85: 火车 | S85: D34 | V85: 近14日返京 | W85: B1829932 | X85: 郭洋 | Z85: =VLOOKUP(W85,#REF!,4,0) -> #REF!
A86: 85 | B86: 土资 | C86: 常自勇 | D86: 男 | E86: 30 | F86: 专任教师 | G86: 京籍 | H86: 13810215948 | I86: 良好 | J86: 36.4 | K86: 在京 | L86: 北京市海淀区学院路30号北京科技大学博士后公寓1号楼一单元801 | M86: 非湖北地区（含北京） | Q86: 02-27 | R86: 飞机 | S86: JAL5449, JAL001, JAL021 | V86: 近14日返京 | W86: B1900452 | X86: 常自勇 | Z86: =VLOOKUP(W86,#REF!,4,0) -> #REF!
A87: 86 | B87: 土资 | C87: 孔德彬 | D87: 男 | E87: 30 | F87: 专任教师 | G87: 京籍 | H87: 18010175991 | I87: 良好 | J87: 36.3 | K87: 在京 | L87: 北京市海淀区学院路30号北京科技大学博士后公寓1-1-901 | M87: 非湖北地区（含北京） | Q87: 02-21 | R87: 火车 | S87: C2560 | V87: 近14日返京 | W87: B1927819 | X87: 孔德彬 | Z87: =VLOOKUP(W87,#REF!,4,0) -> #REF!
A88: 87 | B88: 土资 | C88: 刘佳 | D88: 女 | E88: 29 | F88: 专任教师 | G88: 京籍 | H88: 15201452063 | I88: 良好 | J88: 36.5 | K88: 在京 | L88: 北京市海淀区北京科技大学37栋315 | N88: 非湖北地区（含北京） | Q88: 02-24 | R88: 火车 | S88: G806 | V88: 近14日返京 | W88: B2000957 | X88: 刘佳 | Z88: =VLOOKUP(W88,#REF!,4,0) -> #REF!
A89: 88 | B89: 外语 | C89: 张秋曼 | D89: 女 | E89: 46 | F89: 员工 | G89: 京籍 | H89: 13681281500 | I89: 良好 | J89: 36.5 | K89: 在京 | L89: 北京市海淀区海淀区学院路30号北京科技大学40栋508室 | N89: 非湖北地区（含北京） | Q89: 02-29 | R89: 飞机 | S89: CA992 | V89: 近14日返京 | W89: A9606062 | X89: 张秋曼 | Z89: =VLOOKUP(W89,#REF!,4,0) -> #REF!
A90: 89 | B90: 外语 | C90: 范玉梅 | D90: 女 | E90: 45 | F90: 专任教师 | G90: 京籍 | H90: 18801022099 | I90: 良好 | J90: 36.3 | K90: 在京 | L90: 北京市房山区长阳镇长阳半岛4号院5-602 | N90: 非湖北地区（含北京） | Q90: 03-02 | R90: 火车 | S90: G672 | V90: 近14日返京 | W90: B1011646 | X90: 范玉梅 | Z90: =VLOOKUP(W90,#REF!,4,0) -> #REF!
A91: 90 | B91: 文法 | C91: 蒋海叶 | D91: 女 | E91: 34 | F91: 员工 | G91: 非京籍 | H91: 13552502883 | I91: 良好 | J91: 36.3 | K91: 在京 | L91: 北京市海淀区永泰小区52号516 | N91: 非湖北地区（含北京） | Q91: 02-22 | R91: 火车 | S91: z286 | V91: 近14日返京 | W91: B1704983 | X91: 蒋海叶 | Z91: =VLOOKUP(W91,#REF!,4,0) -> #REF!
A92: 91 | B92: 机关党委 校友会 | C92: 吕朝伟 | D92: 男 | E92: 39 | F92: 员工 | G92: 京籍 | H92: 13331116849 | I92: 良好 | J92: 36.7 | K92: 在京 | L92: 北京市海淀区莲花小区1—5—2306 | N92: 非湖北地区（含北京） | Q92: 02-29 | R92: 飞机 | S92: CA992 | V92: 近14日返京 | W92: B0902566 | X92: 吕朝伟 | Z92: =VLOOKUP(W92,#REF!,4,0) -> #REF!
A93: 92 | B93: 新材院 | C93: 薛润东 | D93: 女 | E93: 55 | F93: 专任教师 | G93: 京籍 | H93: 18610508799 | I93: 良好 | J93: 36.2 | K93: 在京 | L93: 北京市朝阳区澳林春天小区29号楼1单元902 | N93: 非湖北地区（含北京） | Q93: 02-26 | R93: 飞机 | S93: kl4303 | V93: 近14日返京 | W93: A9209171 | X93: 薛润东 | Z93: =VLOOKUP(W93,#REF!,4,0) -> #REF!
A94: 93 | B94: 新材院 | C94: 曲选辉 | D94: 男 | E94: 59 | F94: 专任教师 | G94: 京籍 | H94: 13910051140 | I94: 良好 | J94: 36.5 | K94: 在京 | L94: 北京市昌平区回龙观流星花园一区3008号 | N94: 非湖北地区（含北京） | Q94: 02-20 | R94: 飞机 | S94: CA984 | V94: 近14日返京 | W94: B0007458 | X94: 曲选辉 | Z94: =VLOOKUP(W94,#REF!,4,0) -> #REF!
A95: 94 | B95: 材料国重 | C95: 郭明星 | D95: 男 | E95: 41 | F95: 专任教师 | G95: 京籍 | H95: 13911438559 | I95: 良好 | J95: 36.3 | K95: 在京 | L95: 北京市东城区北京市东城区永定门外西滨河路8号院中海紫御公馆1-3-301 | N95: 非湖北地区（含北京） | Q95: 02-27 | R95: 火车 | S95: G2438 | V95: 近14日返京 | W95: B1200219 | X95: 郭明星 | Z95: =VLOOKUP(W95,#REF!,4,0) -> #REF!
A96: 95 | B96: 机关党委 信息办 | C96: 谢海波 | D96: 男 | E96: 47 | F96: 员工 | G96: 京籍 | H96: 13661081129 | I96: 良好 | J96: 35.9 | K96: 在京 | L96: 北京市海淀区学院路30号北京科技大学会议中心524 | N96: 非湖北地区（含北京） | Q96: 02-24 | R96: 火车 | S96: G28 | V96: 近14日返京 | W96: A9506807 | X96: 谢海波 | Z96: =VLOOKUP(W96,#REF!,4,0) -> #REF!
A97: 96 | B97: 机关党委 学工部 | C97: 杨卫民 | D97: 男 | E97: 58 | F97: 员工 | G97: 京籍 | H97: 13651054371 | I97: 良好 | J97: 36 | K97: 在京 | L97: 北京市海淀区学院路30号24栋107号 | N97: 非湖北地区（含北京） | Q97: 03-03 | R97: 自驾 | V97: 近14日返京 | W97: A8200124 | X97: 杨卫民 | Z97: =VLOOKUP(W97,#REF!,4,0) -> #REF!
A98: 97 | B98: 冶金 | C98: 张梅 | D98: 女 | E98: 50 | F98: 专任教师 | G98: 京籍 | H98: 18611783387 | I98: 良好 | J98: 36.5 | K98: 在京 | L98: 北京市朝阳区利泽西街8号院13号楼2-602 | N98: 非湖北地区（含北京） | Q98: 03-01 | R98: 飞机 | S98: CX811,KA900 | V98: 近14日返京 | W98: A9207479 | X98: 张梅 | Z98: =VLOOKUP(W98,#REF!,4,0) -> #REF!
A99: 98 | B99: 冶金 | C99: 陈怡凌 | D99: 女 | E99: 30 | F99: 专任教师 | G99: 京籍 | H99: 18600645610 | I99: 良好 | J99: 36.3 | K99: 在京 | L99: 北京市海淀区西土城1号院7号楼505 | N99: 非湖北地区（含北京） | Q99: 02-26 | R99: 飞机 | S99: HU7080 | V99: 近14日返京 | W99: B1414143 | X99: 陈怡凌 | Z99: =VLOOKUP(W99,#REF!,4,0) -> #REF!
A100: 99 | B100: 冶金 | C100: 王丽娜 | D100: 女 | E100: 37 | F100: 专任教师 | G100: 非京籍 | H100: 13126756006 | I100: 良好 | J100: 36.7 | K100: 在京 | L100: 北京市海淀区北京科技大学研究生院内的博士后公寓1号楼2单元301 | M100: 非湖北地区（含北京） | Q100: 02-22 | R100: 自驾 | V100: 近14日返京 | W100: B1913789 | X100: 王丽娜 | Z100: =VLOOKUP(W100,#REF!,4,0) -> #REF!
...

Sheet 02单位
A1: 学院 | D1: 计算
A2: 土资 | B2: =VLOOKUP(A2,'03单位'!A:A,1,0) -> 土资 | D2: =COUNTIFS(#REF!,'02单位'!A2) -> #REF!
A3: 冶金 | B3: =VLOOKUP(A3,'03单位'!A:A,1,0) -> 冶金 | C3: 1 | D3: =COUNTIFS(#REF!,'02单位'!A3) -> #REF!
A4: 材料 | B4: =VLOOKUP(A4,'03单位'!A:A,1,0) -> 材料 | D4: =COUNTIFS(#REF!,'02单位'!A4) -> #REF!
A5: 机械 | B5: =VLOOKUP(A5,'03单位'!A:A,1,0) -> 机械 | D5: =COUNTIFS(#REF!,'02单位'!A5) -> #REF!
A6: 融创院 | B6: =VLOOKUP(A6,'03单位'!A:A,1,0) -> 融创院 | D6: =COUNTIFS(#REF!,'02单位'!A6) -> #REF!
A7: 能环 | B7: =VLOOKUP(A7,'03单位'!A:A,1,0) -> 能环 | D7: =COUNTIFS(#REF!,'02单位'!A7) -> #REF!
A8: 自动化 | B8: =VLOOKUP(A8,'03单位'!A:A,1,0) -> 自动化 | D8: =COUNTIFS(#REF!,'02单位'!A8) -> #REF!
A9: 计通 | B9: =VLOOKUP(A9,'03单位'!A:A,1,0) -> 计通 | D9: =COUNTIFS(#REF!,'02单位'!A9) -> #REF!
A10: 顺德院 | B10: =VLOOKUP(A10,'03单位'!A:A,1,0) -> 顺德院 | D10: =COUNTIFS(#REF!,'02单位'!A10) -> #REF!
A11: 数理 | B11: =VLOOKUP(A11,'03单位'!A:A,1,0) -> 数理 | D11: =COUNTIFS(#REF!,'02单位'!A11) -> #REF!
A12: 数理 | B12: =VLOOKUP(A12,'03单位'!A:A,1,0) -> 数理 | C12: 1 | D12: =COUNTIFS(#REF!,'02单位'!A12) -> #REF!
A13: 化生 | B13: =VLOOKUP(A13,'03单位'!A:A,1,0) -> 化生 | D13: =COUNTIFS(#REF!,'02单位'!A13) -> #REF!
A14: 生物工程与传感技术研究中心 | B14: =VLOOKUP(A14,'03单位'!A:A,1,0) -> 生物工程与传感技术研究中心 | C14: 1 | D14: =COUNTIFS(#REF!,'02单位'!A14) -> #REF!
A15: 管理 | B15: =VLOOKUP(A15,'03单位'!A:A,1,0) -> 管理 | C15: 1 | D15: =COUNTIFS(#REF!,'02单位'!A15) -> #REF!
A16: 文法 | B16: =VLOOKUP(A16,'03单位'!A:A,1,0) -> 文法 | C16: 1 | D16: =COUNTIFS(#REF!,'02单位'!A16) -> #REF!
A17: 外语 | B17: =VLOOKUP(A17,'03单位'!A:A,1,0) -> 外语 | D17: =COUNTIFS(#REF!,'02单位'!A17) -> #REF!
A18: 马院 | B18: =VLOOKUP(A18,'03单位'!A:A,1,0) -> 马院 | D18: =COUNTIFS(#REF!,'02单位'!A18) -> #REF!
A19: 新材院 | B19: =VLOOKUP(A19,'03单位'!A:A,1,0) -> 新材院 | D19: =COUNTIFS(#REF!,'02单位'!A19) -> #REF!
A20: 北京材料基因工程高精尖创新中心 | B20: =VLOOKUP(A20,'03单位'!A:A,1,0) -> 北京材料基因工程高精尖创新中心 | D20: =COUNTIFS(#REF!,'02单位'!A20) -> #REF!
A21: 沿海院 | B21: =VLOOKUP(A21,'03单位'!A:A,1,0) -> 沿海院 | D21: =COUNTIFS(#REF!,'02单位'!A21) -> #REF!
A22: 工研院 | B22: =VLOOKUP(A22,'03单位'!A:A,1,0) -> 工研院 | D22: =COUNTIFS(#REF!,'02单位'!A22) -> #REF!
A23: 创新中心 | B23: =VLOOKUP(A23,'03单位'!A:A,1,0) -> 创新中心 | D23: =COUNTIFS(#REF!,'02单位'!A23) -> #REF!
A24: 高工 | B24: =VLOOKUP(A24,'03单位'!A:A,1,0) -> 高工 | D24: =COUNTIFS(#REF!,'02单位'!A24) -> #REF!
A25: 体育部 | B25: =VLOOKUP(A25,'03单位'!A:A,1,0) -> 体育部 | D25: =COUNTIFS(#REF!,'02单位'!A25) -> #REF!
A26: 体育馆 | B26: =VLOOKUP(A26,'03单位'!A:A,1,0) -> 体育馆 | D26: =COUNTIFS(#REF!,'02单位'!A26) -> #REF!
A27: 管庄 | B27: =VLOOKUP(A27,'03单位'!A:A,1,0) -> 管庄 | C27: 1 | D27: =COUNTIFS(#REF!,'02单位'!A27) -> #REF!
A28: 后勤处 | B28: =VLOOKUP(A28,'03单位'!A:A,1,0) -> 后勤处 | D28: =COUNTIFS(#REF!,'02单位'!A28) -> #REF!
A29: 社区服务管理中心 | B29: =VLOOKUP(A29,'03单位'!A:A,1,0) -> 社区服务管理中心 | D29: =COUNTIFS(#REF!,'02单位'!A29) -> #REF!
A30: 校医院 | B30: =VLOOKUP(A30,'03单位'!A:A,1,0) -> 校医院 | D30: =COUNTIFS(#REF!,'02单位'!A30) -> #REF!
A31: 产业集团党委 | B31: =VLOOKUP(A31,'03单位'!A:A,1,0) -> 产业集团党委 | D31: =COUNTIFS(#REF!,'02单位'!A31) -> #REF!
A32: 资产公司 | B32: =VLOOKUP(A32,'03单位'!A:A,1,0) -> 资产公司 | D32: =COUNTIFS(#REF!,'02单位'!A32) -> #REF!
A33: 科技园 | B33: =VLOOKUP(A33,'03单位'!A:A,1,0) -> 科技园 | D33: =COUNTIFS(#REF!,'02单位'!A33) -> #REF!
A34: 分析检验中心 | B34: =VLOOKUP(A34,'03单位'!A:A,1,0) -> 分析检验中心 | D34: =COUNTIFS(#REF!,'02单位'!A34) -> #REF!
A35: 天工公司 | B35: =VLOOKUP(A35,'03单位'!A:A,1,0) -> 天工公司 | D35: =COUNTIFS(#REF!,'02单位'!A35) -> #REF!
A36: 昌平创新园区管理委员会 | B36: =VLOOKUP(A36,'03单位'!A:A,1,0) -> 昌平创新园区管理委员会 | C36: 1 | D36: =COUNTIFS(#REF!,'02单位'!A36) -> #REF!
A37: 科学中心 | B37: =VLOOKUP(A37,'03单位'!A:A,1,0) -> 科学中心 | C37: 1 | D37: =COUNTIFS(#REF!,'02单位'!A37) -> #REF!
A38: 材料国重 | B38: =VLOOKUP(A38,'03单位'!A:A,1,0) -> 材料国重 | D38: =COUNTIFS(#REF!,'02单位'!A38) -> #REF!
A39: 科技史 | B39: =VLOOKUP(A39,'03单位'!A:A,1,0) -> 科技史 | D39: =COUNTIFS(#REF!,'02单位'!A39) -> #REF!
A40: 冶金国重 | B40: =VLOOKUP(A40,'03单位'!A:A,1,0) -> 冶金国重 | D40: =COUNTIFS(#REF!,'02单位'!A40) -> #REF!
A41: 机关党委 财务处 | B41: =VLOOKUP(A41,'03单位'!A:A,1,0) -> 机关党委 财务处 | D41: =COUNTIFS(#REF!,'02单位'!A41) -> #REF!
A42: 机关党委 工会 | B42: =VLOOKUP(A42,'03单位'!A:A,1,0) -> 机关党委 工会 | D42: =COUNTIFS(#REF!,'02单位'!A42) -> #REF!
A43: 机关党委 国际处 | B43: =VLOOKUP(A43,'03单位'!A:A,1,0) -> 机关党委 国际处 | D43: =COUNTIFS(#REF!,'02单位'!A43) -> #REF!
A44: 机关党委 国际学生中心 | B44: =VLOOKUP(A44,'03单位'!A:A,1,0) -> 机关党委 国际学生中心 | D44: =COUNTIFS(#REF!,'02单位'!A44) -> #REF!
A45: 机关党委 基教中心 | B45: =VLOOKUP(A45,'03单位'!A:A,1,0) -> 机关党委 基教中心 | D45: =COUNTIFS(#REF!,'02单位'!A45) -> #REF!
A46: 机关党委 基建处 | B46: =VLOOKUP(A46,'03单位'!A:A,1,0) -> 机关党委 基建处 | D46: =COUNTIFS(#REF!,'02单位'!A46) -> #REF!
A47: 机关党委 教务处 | B47: =VLOOKUP(A47,'03单位'!A:A,1,0) -> 机关党委 教务处 | D47: =COUNTIFS(#REF!,'02单位'!A47) -> #REF!
A48: 机关党委 科研院 | B48: =VLOOKUP(A48,'03单位'!A:A,1,0) -> 机关党委 科研院 | D48: =COUNTIFS(#REF!,'02单位'!A48) -> #REF!
A49: 机关党委 期刊中心 | B49: =VLOOKUP(A49,'03单位'!A:A,1,0) -> 机关党委 期刊中心 | D49: =COUNTIFS(#REF!,'02单位'!A49) -> #REF!
... A67: 机关党委 纪监巡 | B67: =VLOOKUP(A67,'03单位'!A:A,1,0) -> 机关党委 纪监巡 | D67: =COUNTIFS(#REF!,'02单位'!A67) -> #REF!
A68: 机关党委 扶贫办 | B68: =VLOOKUP(A68,'03单位'!A:A,1,0) -> #N/A | C68: 1 | D68: =COUNTIFS(#REF!,'02单位'!A68) -> #REF! | E68: 舍弃
A69: 机关党委 人才中心 | B69: =VLOOKUP(A69,'03单位'!A:A,1,0) -> 机关党委 人才中心 | D69: =COUNTIFS(#REF!,'02单位'!A69) -> #REF!
A70: 机关党委 审计室 | B70: =VLOOKUP(A70,'03单位'!A:A,1,0) -> 机关党委 审计室 | D70: =COUNTIFS(#REF!,'02单位'!A70) -> #REF!
A71: 机关党委 图书馆 | B71: =VLOOKUP(A71,'03单位'!A:A,1,0) -> 机关党委 图书馆 | D71: =COUNTIFS(#REF!,'02单位'!A71) -> #REF!
A72: 机关党委 团委 | B72: =VLOOKUP(A72,'03单位'!A:A,1,0) -> 机关党委 团委 | D72: =COUNTIFS(#REF!,'02单位'!A72) -> #REF!
A73: 机关党委 宣传部、教工部 | B73: =VLOOKUP(A73,'03单位'!A:A,1,0) -> 机关党委 宣传部、教工部 | D73: =COUNTIFS(#REF!,'02单位'!A73) -> #REF!
A74: 机关党委 招就处 | B74: =VLOOKUP(A74,'03单位'!A:A,1,0) -> 机关党委 招就处 | D74: =COUNTIFS(#REF!,'02单位'!A74) -> #REF!
A75: 机关党委 统战部 | B75: =VLOOKUP(A75,'03单位'!A:A,1,0) -> 机关党委 统战部 | D75: =COUNTIFS(#REF!,'02单位'!A75) -> #REF!
A76: 幼儿园 | B76: =VLOOKUP(A76,'03单位'!A:A,1,0) -> 幼儿园 | C76: 1 | D76: =COUNTIFS(#REF!,'02单位'!A76) -> #REF!
A77: 沿海院 | B77: =VLOOKUP(A77,'03单位'!A:A,1,0) -> 沿海院 | C77: 1 | D77: =COUNTIFS(#REF!,'02单位'!A77) -> #REF!
A78: 机关党委 顺德院 | B78: =VLOOKUP(A78,'03单位'!A:A,1,0) -> #N/A | C78: 1 | D78: =COUNTIFS(#REF!,'02单位'!A78) -> #REF! | E78: 舍弃
A79: 机关党委 国际处 | B79: =VLOOKUP(A79,'03单位'!A:A,1,0) -> 机关党委 国际处 | C79: 1 | D79: =COUNTIFS(#REF!,'02单位'!A79) -> #REF!
A80: 人工智能研究院 | B80: =VLOOKUP(A80,'03单位'!A:A,1,0) -> 人工智能研究院 | C80: 1 | D80: =COUNTIFS(#REF!,'02单位'!A80) -> #REF!

Sheet 03单位
A1: 单位-简称
A2: 材料 | B2: =VLOOKUP(A2,'02单位'!A:A,1,0) -> 材料 | C2: =COUNTIFS(#REF!,'03单位'!A2) -> #REF!
A3: 机关党委 财务处 | B3: =VLOOKUP(A3,'02单位'!A:A,1,0) -> 机关党委 财务处 | C3: =COUNTIFS(#REF!,'03单位'!A3) -> #REF!
A4: 管理 | B4: =VLOOKUP(A4,'02单位'!A:A,1,0) -> 管理 | C4: =COUNTIFS(#REF!,'03单位'!A4) -> #REF!
A5: 创新中心 | B5: =VLOOKUP(A5,'02单位'!A:A,1,0) -> 创新中心 | C5: =COUNTIFS(#REF!,'03单位'!A5) -> #REF!
A6: 冶金国重 | B6: =VLOOKUP(A6,'02单位'!A:A,1,0) -> 冶金国重 | C6: =COUNTIFS(#REF!,'03单位'!A6) -> #REF!
A7: 高工 | B7: =VLOOKUP(A7,'02单位'!A:A,1,0) -> 高工 | C7: =COUNTIFS(#REF!,'03单位'!A7) -> #REF!
A8: 工研院 | B8: =VLOOKUP(A8,'02单位'!A:A,1,0) -> 工研院 | C8: =COUNTIFS(#REF!,'03单位'!A8) -> #REF!
A9: 机关党委 工会 | B9: =VLOOKUP(A9,'02单位'!A:A,1,0) -> 机关党委 工会 | C9: =COUNTIFS(#REF!,'03单位'!A9) -> #REF!
A10: 管庄 | B10: =VLOOKUP(A10,'02单位'!A:A,1,0) -> 管庄 | C10: =COUNTIFS(#REF!,'03单位'!A10) -> #REF!
A11: 机关党委 国际处 | B11: =VLOOKUP(A11,'02单位'!A:A,1,0) -> 机关党委 国际处 | C11: =COUNTIFS(#REF!,'03单位'!A11) -> #REF!
A12: 科学中心 | B12: =VLOOKUP(A12,'02单位'!A:A,1,0) -> 科学中心 | C12: =COUNTIFS(#REF!,'03单位'!A12) -> #REF!
A13: 化生 | B13: =VLOOKUP(A13,'02单位'!A:A,1,0) -> 化生 | C13: =COUNTIFS(#REF!,'03单位'!A13) -> #REF!
... A77: 天工公司 | B77: =VLOOKUP(A77,'02单位'!A:A,1,0) -> 天工公司 | C77: =COUNTIFS(#REF!,'03单位'!A77) -> #REF!

Sheet 信息表
A1: 附件：
A2: 临时探访人员进校申请表
A3: 进校人姓名 | B3: 进校车牌号 | C3: 进校事由 | D3: 进校时间 | E3: 进校人单位 | F3: 进校人联系方式 | G3: 进入教学学生区入口（实验楼入口、万秀园入口、南二门、西门 | H3: 校内申请单位 | I3: 申请单位负责人签字（签章） | J3: 近14天情况
J4: 1.体温是否正常 是□ 否□ 2.是否有发热、咳嗽等症状 是□ 否□ 3.是否来自境外、湖北及国内中高风险地区 是□ 否□ 4.是否接触过以上地区返回人员 是□ 否□ 5.是否有同住家人从以上地区返回 是□ 否□
A5: 经办人： 电话：
A6: 备注：1.临时探访人员和车辆需经校内各申请单位审核； 2.各单位要按照“非必须不申请的原则”严格把关； 3.各单位要密切关注各地区疫情风险等级变化，确保进校人员身体健康。
