Workbook

Sheet Sheet3
A1: 联系方式 | B1: 单位-简称 | C1: 人员姓名 | D1: 性别 | E1: 年龄 | F1: 人员类别 （专任教师/员工） | G1: 户籍 （京籍/非京籍） | H1: 目前健康状况 | I1: 当日体温 （数字） | J1: 当日所在地 （在京/国内湖北地区/国内非湖北地区/国境外）
A2: 18812169583 | B2: 幼儿园 | C2: 张倩 | D2: 女 | E2: 22 | F2: 员工 | G2: 非京籍 | H2: 良好 | I2: 36.5 | J2: 国内非湖北地区
A3: 18600649161 | B3: 机关党委 保卫处 | C3: 赵剑飞 | D3: 男 | E3: 30 | F3: 员工 | G3: 非京籍 | H3: 良好 | I3: 36.5 | J3: 国内非湖北地区
A4: 18811770913 | B4: 材料 | C4: 李永亮 | D4: 女 | E4: 36 | F4: 员工 | G4: 非京籍 | H4: 良好 | I4: 36.1 | J4: 国内非湖北地区
A5: 13126769633 | B5: 材料 | C5: 郑耀杰 | D5: 男 | E5: 24 | F5: 员工 | G5: 京籍 | H5: 良好 | I5: 36.5 | J5: 国内非湖北地区
A6: 17623571938 | B6: 材料 | C6: 赵彦博 | D6: 男 | E6: 27 | F6: 员工 | G6: 非京籍 | H6: 良好 | I6: 36.5 | J6: 国内非湖北地区
A7: 13522695859 | B7: 材料 | C7: 李茂峰 | D7: 男 | E7: 35 | F7: 员工 | G7: 京籍 | H7: 良好 | I7: 36.3 | J7: 国内非湖北地区
A8: 18310677687 | B8: 材料 | C8: 刘宇杰 | D8: 女 | E8: 25 | F8: 员工 | G8: 京籍 | H8: 良好 | I8: 36 | J8: 国内非湖北地区
A9: 13911024609 | B9: 机关党委 财务处 | C9: 向剑锋 | D9: 男 | E9: 42 | F9: 员工 | G9: 京籍 | H9: 良好 | I9: 36.0 | J9: 国内非湖北地区
A10: 13811296966 | B10: 机关党委 财务处 | C10: 程欢兄 | D10: 女 | E10: 35 | F10: 员工 | G10: 京籍 | H10: 良好 | I10: 36.2 | J10: 国内非湖北地区
A11: 13501399360 | B11: 机关党委 党办校办 | C11: 沈崴 | D11: 男 | E11: 46 | F11: 员工 | G11: 京籍 | H11: 良好 | I11: 36.3 | J11: 国内非湖北地区
A12: 13811077268 | B12: 机关党委 党办校办 | C12: 李萌 | D12: 男 | E12: 36 | F12: 员工 | G12: 京籍 | H12: 良好 | I12: 36.3 | J12: 国内非湖北地区
A13: 13466565198 | B13: 机关党委 党办校办 | C13: 孙雅娴 | D13: 女 | E13: 34 | F13: 员工 | G13: 京籍 | H13: 良好 | I13: 36.5 | J13: 国内非湖北地区
... A219: 18201692037 | B219: 机关党委 自然中心 | C219: 柳荫 | D219: 女 | E219: 27 | F219: 员工 | G219: 京籍 | H219: 良好 | I219: 36.6 | J219: 国内非湖北地区
A220: 18617753106 | B220: 后勤处 | C220: 李少华 | D220: 男 | E220: 24 | F220: 员工 | G220: 非京籍 | H220: 良好 | I220: 36.4 | J220: 国内非湖北地区
A221: 18614225398 | B221: 后勤处 | C221: 赵明先 | D221: 男 | E221: 52 | F221: 员工 | G221: 非京籍 | H221: 良好 | I221: 36.2 | J221: 国内非湖北地区
A222: 15712993358 | B222: 后勤处 | C222: 李得锋 | D222: 男 | E222: 59 | F222: 员工 | G222: 非京籍 | H222: 良好 | I222: 36.4 | J222: 国内非湖北地区
A223: 13718332549 | B223: 后勤处 | C223: 李红岭 | D223: 男 | E223: 44 | F223: 员工 | G223: 非京籍 | H223: 良好 | I223: 36.1 | J223: 国内非湖北地区
A224: 13121515833 | B224: 后勤处 | C224: 李世意 | D224: 女 | E224: 44 | F224: 员工 | G224: 非京籍 | H224: 良好 | I224: 35.9 | J224: 国内非湖北地区
A225: 18801165765 | B225: 后勤处 | C225: 郑红玲 | D225: 女 | E225: 43 | F225: 员工 | G225: 非京籍 | H225: 良好 | I225: 35.7 | J225: 国内非湖北地区
A226: 18801091530 | B226: 后勤处 | C226: 左爱景 | D226: 女 | E226: 33 | F226: 员工 | G226: 非京籍 | H226: 良好 | I226: 36.3 | J226: 国内非湖北地区
A227: 15330359585 | B227: 后勤处 | C227: 陈蓉 | D227: 女 | E227: 45 | F227: 员工 | G227: 非京籍 | H227: 良好 | I227: 36.5 | J227: 国内非湖北地区
A228: 15032502123 | B228: 后勤处 | C228: 潘正伟 | D228: 男 | E228: 45 | F228: 员工 | G228: 非京籍 | H228: 良好 | I228: 36.3 | J228: 国内非湖北地区
A229: 15011062811 | B229: 后勤处 | C229: 刘林强 | D229: 男 | E229: 30 | F229: 员工 | G229: 非京籍 | H229: 良好 | I229: 36.5 | J229: 国内非湖北地区
A230: 13240721525 | B230: 后勤处 | C230: 刘艳芬 | D230: 女 | E230: 50 | F230: 员工 | G230: 非京籍 | H230: 良好 | I230: 36 | J230: 国内非湖北地区
A231: 18801289931 | B231: 后勤处 | C231: 耿国连 | D231: 女 | E231: 39 | F231: 员工 | G231: 非京籍 | H231: 良好 | I231: 36.3 | J231: 国内非湖北地区
... A251: 13994411917 | B251: 后勤处 | C251: 张桂芳 | D251: 女 | E251: 42 | F251: 员工 | G251: 非京籍 | H251: 良好 | I251: 36.1 | J251: 国内非湖北地区
A252: 13472330680 | B252: 后勤处 | C252: 张青军 | D252: 男 | F252: 员工 | G252: 非京籍 | H252: 良好 | I252: 36.2 | J252: 国内非湖北地区
A253: 15032226825 | B253: 后勤处 | C253: 李跟金 | D253: 男 | E253: 55 | F253: 员工 | G253: 非京籍 | H253: 良好 | I253: 36 | J253: 国内非湖北地区
A254: 18795033920 | B254: 后勤处 | C254: 马彦虎 | D254: 男 | E254: 48 | F254: 员工 | G254: 非京籍 | H254: 良好 | I254: 36.1 | J254: 国内非湖北地区
A255: 17355856291 | B255: 后勤处 | C255: 张玉芳 | D255: 女 | E255: 37 | F255: 员工 | G255: 非京籍 | H255: 良好 | I255: 36.1 | J255: 国内非湖北地区
A256: 15188667699 | B256: 后勤处 | C256: 徐成霞 | D256: 女 | E256: 42 | F256: 员工 | G256: 非京籍 | H256: 良好 | I256: 36 | J256: 国内非湖北地区
A257: 15313202539 | B257: 后勤处 | C257: 郭淑红 | D257: 女 | E257: 46 | F257: 员工 | G257: 非京籍 | H257: 良好 | I257: 36 | J257: 国内非湖北地区
A258: 14709669194 | B258: 后勤处 | C258: 马有珍 | D258: 男 | E258: 45 | F258: 员工 | G258: 非京籍 | H258: 良好 | I258: 36.1 | J258: 国内非湖北地区
A259: 17695170492 | B259: 后勤处 | C259: 马亮亮 | D259: 男 | E259: 20 | F259: 员工 | G259: 非京籍 | H259: 良好 | I259: 36.4 | J259: 国内非湖北地区
A260: 15027886678 | B260: 后勤处 | C260: 徐成成 | D260: 男 | E260: 31 | F260: 员工 | G260: 非京籍 | H260: 良好 | I260: 36.2 | J260: 国内非湖北地区
A261: 15169704754 | B261: 后勤处 | C261: 刘文举 | D261: 男 | E261: 53 | F261: 员工 | G261: 非京籍 | H261: 良好 | I261: 36.4 | J261: 国内非湖北地区
A262: 15031979898 | B262: 后勤处 | C262: 冯书兰 | D262: 女 | E262: 40 | F262: 员工 | G262: 非京籍 | H262: 良好 | I262: 36.1 | J262: 国内非湖北地区
A263: 15600561967 | B263: 后勤处 | C263: 向德炎 | D263: 男 | E263: 37 | F263: 员工 | G263: 非京籍 | H263: 良好 | I263: 35.8 | J263: 国内非湖北地区
A264: 16604101318 | B264: 后勤处 | C264: 王海龙 | D264: 男 | E264: 48 | F264: 员工 | G264: 非京籍 | H264: 良好 | I264: 36 | J264: 国内非湖北地区
...

Sheet Sheet2
A1: 17600224682 | B1: 创新中心 | C1: 张聪 | D1: 男 | E1: 30 | F1: 专任教师 | G1: 京籍 | H1: 国境外 | I1: 德国/亚琛
A2: 18519275568 | B2: 创新中心 | C2: 侯新梅 | D2: 女 | E2: 40 | F2: 专任教师 | G2: 京籍 | H2: 国境外 | I2: 北京
A3: 15201230125 | B3: 机械 | C3: 裴磊 | D3: 女 | E3: 37 | F3: 专任教师 | G3: 京籍 | H3: 国境外 | I3: 加拿大
A4: 13501064921 | B4: 材料 | C4: 韩静涛 | D4: 男 | E4: 63 | F4: 专任教师 | G4: 京籍 | H4: 国境外 | I4: Gosford, New South Wales,Australia
A5: 13621143485 | B5: 材料 | C5: 曹晖 | D5: 男 | E5: 43 | F5: 专任教师 | G5: 京籍 | H5: 国境外 | I5: 新加坡
A6: 13439489101 | B6: 材料 | C6: 耿文通 | D6: 男 | E6: 49 | F6: 专任教师 | G6: 非京籍 | H6: 国境外 | I6: 日本
A7: 15210600103 | B7: 材料 | C7: 高鸿毅 | D7: 男 | E7: 34 | F7: 专任教师 | G7: 京籍 | H7: 国境外 | I7: 美国
A8: 15201452408 | B8: 材料 | C8: 朱立峰 | D8: 男 | E8: 34 | F8: 专任教师 | G8: 京籍 | H8: 国境外 | I8: 美国
A9: 15652383624 | B9: 材料 | C9: 颜鲁春 | D9: 男 | E9: 31 | F9: 专任教师 | G9: 京籍 | H9: 国境外 | I9: 日本
A10: 15201282864 | B10: 材料 | C10: 姚生莲 | D10: 女 | E10: 33 | F10: 专任教师 | G10: 京籍 | H10: 国境外 | I10: 美国/Evanston
A11: 18811392361 | B11: 材料 | C11: 耿东生 | D11: 男 | E11: 41 | F11: 专任教师 | G11: 非京籍 | H11: 国境外 | I11: 加拿大/London
A12: 13522249027 | B12: 材料 | C12: 黄秀兵 | D12: 男 | E12: 35 | F12: 专任教师 | G12: 京籍 | H12: 国境外 | I12: 德国
... A105: 18600196694 | B105: 计通 | C105: 王笑琨 | D105: 男 | E105: 33 | F105: 专任教师 | G105: 京籍 | H105: 国境外 | I105: 荷兰/格罗宁根

Sheet 0305人员
A1: 编号 | B1: 单位-简称 | C1: 人员姓名 | D1: 性别 | E1: 年龄 | F1: 人员类别 （专任教师/员工） | G1: 户籍 （京籍/非京籍） | H1: 联系方式 | I1: 目前健康状况 | J1: 当日体温 （数字） | K1: 当日所在地 （在京/国内湖北地区/国内非湖北地区/国境外） | L1: 现在居住地址 （例：广东省广州市**小区**楼*单元**号） | M1: 已返京或进入教学区 （例，除有出京情况人员外，一直在京且有自有住房，但返回学校集体宿舍居住或一直在京且有自有住房，但返校工作的人员也需填写） | T1: 在京及京外疑似和确诊人员情况（出现疑似和确诊病例，请单附说明） | V1: 备注 | W1: 工号 | X1: 人员姓名 | Z1: 迭代0306
A2: 1 | B2: 材料 | C2: 田文怀 | D2: 男 | E2: 60 | F2: 专任教师 | G2: 京籍 | H2: 13911826233 | I2: 良好 | J2: 36.5 | K2: 在京 | L2: 北京市昌平区流村镇漆园599号 | N2: 非湖北地区（含北京） | Q2: 03-03 | R2: 飞机 | S2: KA1112 | V2: 近14日返京 | W2: A9508387 | X2: 田文怀 | Z2: =VLOOKUP(W2,#REF!,4,0) -> #REF!
A3: 2 | B3: 材料 | C3: 李明华 | D3: 女 | E3: 47 | F3: 专任教师 | G3: 京籍 | H3: 13521693966 | I3: 良好 | J3: 36.2 | K3: 在京 | L3: 北京市海淀区北京科技大学50栋419 | N3: 非湖北地区（含北京） | Q3: 02-22 | R3: 火车 | S3: K196/G2486 | V3: 近14日返京 | W3: B0614253 | X3: 李明华 | Z3: =VLOOKUP(W3,#REF!,4,0) -> #REF!
A4: 3 | B4: 材料 | C4: 孙洒丽 | D4: 女 | E4: 39 | F4: 员工 | G4: 京籍 | H4: 13811489925 | I4: 良好 | J4: 36.2 | K4: 在京 | L4: 北京市海淀区学清路城华园小区六号楼二单元六零四 | N4: 非湖北地区（含北京） | Q4: 02-20 | R4: 飞机 | S4: hu7280 | V4: 近14日返京 | W4: B0711559 | X4: 孙洒丽 | Z4: =VLOOKUP(W4,#REF!,4,0) -> #REF!
A5: 4 | B5: 材料 | C5: 李艺 | D5: 女 | E5: 35 | F5: 员工 | G5: 京籍 | H5: 13718852486 | I5: 良好 | J5: 36.5 | K5: 在京 | L5: 北京市海淀区学院路30号北京科技大学家属楼35栋620 | N5: 非湖北地区（含北京） | Q5: 02-20 | R5: 自驾 | V5: 近14日返京 | W5: B1009470 | X5: 李艺 | Z5: =VLOOKUP(W5,#REF!,4,0) -> #REF!
A6: 5 | B6: 材料 | C6: 夏敏 | D6: 男 | E6: 35 | F6: 专任教师 | G6: 京籍 | H6: 18612537338 | I6: 良好 | J6: 36.2 | K6: 在京 | L6: 北京市海淀区学院路30号北京科技大学38栋-519 | N6: 非湖北地区（含北京） | Q6: 03-01 | R6: 火车 | S6: G308 | V6: 近14日返京 | W6: B1600337 | X6: 夏敏 | Z6: =VLOOKUP(W6,#REF!,4,0) -> #REF!
A7: 6 | B7: 材料 | C7: 贺玮 | D7: 女 | E7: 31 | F7: 专任教师 | G7: 京籍 | H7: 15910864693 | I7: 良好 | J7: 36.3 | K7: 在京 | L7: 北京市海淀区学院路30号北京科技大学30号楼1门401 | N7: 湖北含经停 | Q7: 02-24 | R7: 火车 | S7: G1757,G66 | V7: 近14日返京 | W7: B1633894 | X7: 贺玮 | Z7: =VLOOKUP(W7,#REF!,4,0) -> #REF!
A8: 7 | B8: 材料 | C8: 王文静 | D8: 女 | E8: 30 | F8: 专任教师 | G8: 京籍 | H8: 18810256676 | I8: 良好 | J8: 36.7 | K8: 在京 | L8: 北京市朝阳区小关北里 | N8: 非湖北地区（含北京） | Q8: 02-29 | R8: 自驾 | V8: 近14日返京 | W8: B1821144 | X8: 王文静 | Z8: =VLOOKUP(W8,#REF!,4,0) -> #REF!
A9: 8 | B9: 材料 | C9: 罗乙娲 | D9: 女 | E9: 31 | F9: 专任教师 | G9: 京籍 | H9: 13401189958 | I9: 良好 | J9: 36.5 | K9: 在京 | L9: 北京市海淀区北京科技大学37栋4单元1013 | N9: 非湖北地区（含北京） | Q9: 02-25 | R9: 火车 | S9: G398 | V9: 近14日返京 | W9: B1901987 | X9: 罗乙娲 | Z9: =VLOOKUP(W9,#REF!,4,0) -> #REF!
A10: 9 | B10: 材料 | C10: 李桐桐 | D10: 女 | E10: 33 | F10: 员工 | G10: 非京籍 | H10: 13102102816 | I10: 良好 | J10: 36.4 | K10: 在京 | L10: 北京市顺义区胜利街道幸福西区1号楼一单元1601 | N10: 非湖北地区（含北京） | Q10: 02-23 | R10: 自驾 | V10: 近14日返京 | W10: B1902886 | X10: 李桐桐 | Z10: =VLOOKUP(W10,#REF!,4,0) -> #REF!
A11: 10 | B11: 机关党委 财务处 | C11: 王冰 | D11: 女 | E11: 32 | F11: 员工 | G11: 京籍 | H11: 18701677508 | I11: 良好 | J11: 36.3 | K11: 在京 | L11: 北京市海淀区学院路30号北京科技大学30栋3单元309 | N11: 非湖北地区（含北京） | Q11: 02-23 | R11: 火车 | S11: G6746 | V11: 近14日返京 | W11: B1205774 | X11: 王冰 | Z11: =VLOOKUP(W11,#REF!,4,0) -> #REF!
A12: 11 | B12: 机关党委 财务处 | C12: 贾建楠 | D12: 女 | E12: 31 | F12: 员工 | G12: 非京籍 | H12: 17888816307 | I12: 良好 | J12: 35.9 | K12: 在京 | L12: 北京市海淀区学院路30号北京科技大学16斋519室 | M12: 非湖北地区（含北京） | Q12: 02-26 | R12: 火车 | S12: k2560 | V12: 近14日返京 | W12: B1427804 | X12: 贾建楠 | Z12: =VLOOKUP(W12,#REF!,4,0) -> #REF!
A13: 12 | B13: 机关党委 党办校办 | C13: 查玉喜 | D13: 男 | E13: 50 | F13: 员工 | G13: 非京籍 | H13: 18805330507 | I13: 良好 | J13: 36.2 | K13: 在京 | L13: 北京市海淀区北京科技大学国际交流外专家公寓203 | N13: 非湖北地区（含北京） | Q13: 03-04 | R13: 火车 | S13: G196 | V13: 近14日返京 | W13: B1936176 | X13: 查玉喜 | Z13: =VLOOKUP(W13,#REF!,4,0) -> #REF!
A14: 13 | B14: 机关党委 党办校办 | C14: 郑言军 | D14: 男 | E14: 41 | F14: 员工 | G14: 非京籍 | H14: 13691203207 | I14: 良好 | J14: 36.1 | K14: 在京 | L14: 北京市海淀区北京科技大学会议中心 | M14: 非湖北地区（含北京） | Q14: 03-03 | R14: 自驾 | V14: 近14日返京 | W14: L10151 | X14: 郑言军 | Z14: =VLOOKUP(W14,#REF!,4,0) -> #REF!
A15: 14 | B15: 管理 | C15: 胡波 | D15: 女 | E15: 51 | F15: 专任教师 | G15: 京籍 | H15: 13581932095 | I15: 良好 | J15: 36.3 | K15: 在京 | L15: 北京市海淀区知春路太月园小区9-1802 | N15: 非湖北地区（含北京） | Q15: 02-21 | R15: 飞机 | S15: HX766 | V15: 近14日返京 | W15: A9501988 | X15: 胡波 | Z15: =VLOOKUP(W15,#REF!,4,0) -> #REF!
A16: 15 | B16: 管理 | C16: 赵西爱 | D16: 女 | E16: 50 | F16: 员工 | G16: 京籍 | H16: 13671122998 | I16: 良好 | J16: 36.5 | K16: 在京 | L16: 北京市海淀区学清路逸成东苑8号楼1--302 | N16: 非湖北地区（含北京） | Q16: 02-21 | R16: 飞机 | S16: AC103、CA992 | V16: 近14日返京 | W16: A9502569 | X16: 赵西爱 | Z16: =VLOOKUP(W16,#REF!,4,0) -> #REF!
A17: 16 | B17: 管理 | C17: 刘亚莉 | D17: 女 | E17: 50 | F17: 专任教师 | G17: 京籍 | H17: 18911793819 | I17: 良好 | J17: 36.3 | K17: 在京 | L17: 北京市朝阳区南沙滩2号院天和人家1-1-2102 | N17: 非湖北地区（含北京） | Q17: 02-20 | R17: 飞机 | S17: HU7080 | V17: 近14日返京 | W17: B0404773 | X17: 刘亚莉 | Z17: =VLOOKUP(W17,#REF!,4,0) -> #REF!
A18: 17 | B18: 管理 | C18: 赵霞 | D18: 女 | E18: 47 | F18: 员工 | G18: 京籍 | H18: 13810842269 | I18: 良好 | J18: 36.3 | K18: 在京 | L18: 北京市海淀区芳清园9-1-301 | N18: 非湖北地区（含北京） | Q18: 02-22 | R18: 自驾 | V18: 近14日返京 | W18: B1200325 | X18: 赵霞 | Z18: =VLOOKUP(W18,#REF!,4,0) -> #REF!
A19: 18 | B19: 管理 | C19: 林敏 | D19: 女 | E19: 38 | F19: 专任教师 | G19: 京籍 | H19: 15201558631 | I19: 良好 | J19: 36.2 | K19: 在京 | L19: 北京市海淀区学院路20号24号楼三单元301 | N19: 非湖北地区（含北京） | Q19: 02-21 | R19: 飞机 | S19: MF8113 | V19: 近14日返京 | W19: B1204027 | X19: 林敏 | Z19: =VLOOKUP(W19,#REF!,4,0) -> #REF!
A20: 19 | B20: 管理 | C20: 寇明婷 | D20: 女 | E20: 38 | F20: 专任教师 | G20: 京籍 | H20: 18911320189 | I20: 良好 | J20: 36.1 | K20: 在京 | L20: 北京市海淀区学院路30号北科大校区9栋208 | N20: 非湖北地区（含北京） | Q20: 02-20 | R20: 火车 | S20: G2518 | V20: 近14日返京 | W20: B1607908 | X20: 寇明婷 | Z20: =VLOOKUP(W20,#REF!,4,0) -> #REF!
A21: 20 | B21: 管理 | C21: 方园 | D21: 女 | E21: 33 | F21: 员工 | G21: 非京籍 | H21: 15726665750 | I21: 良好 | J21: 36.5 | K21: 在京 | L21: 北京市昌平区天通苑四区5号楼3A单元501 （公公家） | N21: 非湖北地区（含北京） | Q21: 02-20 | R21: 飞机 | S21: 首航JD5316 | V21: 近14日返京 | W21: B1709058 | X21: 方园 | Z21: =VLOOKUP(W21,#REF!,4,0) -> #REF!
A22: 21 | B22: 管理 | C22: 徐迎迎 | D22: 女 | E22: 30 | F22: 专任教师 | G22: 京籍 | H22: 13401160921 | I22: 良好 | J22: 36.3 | K22: 在京 | L22: 北京市海淀区二里庄小区25号楼4单元601 | N22: 非湖北地区（含北京） | Q22: 02-26 | R22: 火车 | S22: G5531/G60 | V22: 近14日返京 | W22: B1806373 | X22: 徐迎迎 | Z22: =VLOOKUP(W22,#REF!,4,0) -> #REF!
A23: 22 | B23: 管理 | C23: 崔鸿飞 | D23: 女 | E23: 32 | F23: 专任教师 | G23: 京籍 | H23: 13439136535 | I23: 良好 | J23: 36.5 | K23: 在京 | L23: 北京市海淀区安宁庄路11号院41-3-102 | N23: 非湖北地区（含北京） | Q23: 02-22 | R23: 自驾 | V23: 近14日返京 | W23: B1911355 | X23: 崔鸿飞 | Z23: =VLOOKUP(W23,#REF!,4,0) -> #REF!
A24: 23 | B24: 管理 | C24: 刘熙雯 | D24: 女 | E24: 26 | F24: 员工 | G24: 京籍 | H24: 18612551925 | I24: 良好 | J24: 36.5 | K24: 在京 | L24: 北京市朝阳区望京大西洋新城金石美苑313-2-502 | N24: 非湖北地区（含北京） | Q24: 02-20 | R24: 飞机 | S24: CA1122 | V24: 近14日返京 | W24: B1929935 | X24: 刘熙雯 | Z24: =VLOOKUP(W24,#REF!,4,0) -> #REF!
A25: 24 | B25: 管理 | C25: 刘敏 | D25: 女 | E25: 38 | F25: 员工 | G25: 非京籍 | H25: 13810369198 | I25: 良好 | J25: 36.5 | K25: 在京 | L25: 北京市海淀区北京科技大学16斋342 | M25: 非湖北地区（含北京） | Q25: 02-20 | R25: 火车 | S25: G610 | V25: 近14日返京 | W25: L00402 | X25: 刘敏 | Z25: =VLOOKUP(W25,#REF!,4,0) -> #REF!
A26: 25 | B26: 管理 | C26: 张辉 | D26: 男 | E26: 35 | F26: 员工 | G26: 非京籍 | H26: 15801047839 | I26: 良好 | J26: 36.0 | K26: 在京 | L26: 北京市海淀区北京科技大学会议中心1005 | M26: 非湖北地区（含北京） | Q26: 02-20 | R26: 火车 | S26: Y502 | V26: 近14日返京 | W26: L10478 | X26: 张辉 | Z26: =VLOOKUP(W26,#REF!,4,0) -> #REF!
A27: 26 | B27: 管理 | C27: 孟丹 | D27: 女 | E27: 38 | F27: 员工 | G27: 非京籍 | H27: 13641048353 | I27: 良好 | J27: 36.3 | K27: 在京 | L27: 北京市海淀区北京科技大学16斋202 | M27: 非湖北地区（含北京） | Q27: 02-22 | R27: 火车 | S27: D6 | V27: 近14日返京 | W27: L11009 | X27: 孟丹 | Z27: =VLOOKUP(W27,#REF!,4,0) -> #REF!
A28: 27 | B28: 创新中心 | C28: 杨涛 | D28: 男 | E28: 32 | F28: 专任教师 | G28: 京籍 | H28: 15652934695 | I28: 良好 | J28: 36.1 | K28: 在京 | L28: 北京市东城区海淀区学院路30号北京科技大学 | M28: 非湖北地区（含北京） | Q28: 02-23 | R28: 火车 | S28: Z227 | V28: 近14日返京 | W28: B1807484 | X28: 杨涛 | Z28: =VLOOKUP(W28,#REF!,4,0) -> #REF!
A29: 28 | B29: 冶金国重 | C29: 郭磊 | D29: 男 | E29: 33 | F29: 专任教师 | G29: 京籍 | H29: 13811906806 | I29: 良好 | J29: 36.5 | K29: 在京 | L29: 北京市昌平区西环路蓝郡嘉苑1326 | N29: 非湖北地区（含北京） | Q29: 02-23 | R29: 飞机 | S29: CA984 | V29: 近14日返京 | W29: B1611240 | X29: 郭磊 | Z29: =VLOOKUP(W29,#REF!,4,0) -> #REF!
A30: 29 | B30: 高工 | C30: 赵志毅 | D30: 男 | E30: 57 | F30: 专任教师 | G30: 京籍 | H30: 13311019097 | I30: 良好 | J30: 36.5 | K30: 在京 | L30: 北京市朝阳区林萃路澳林春天小区29/1/902 | N30: 非湖北地区（含北京） | Q30: 02-26 | R30: 飞机 | S30: KL4303 | V30: 近14日返京 | W30: A8403251 | X30: 赵志毅 | Z30: =VLOOKUP(W30,#REF!,4,0) -> #REF!
A31: 30 | B31: 高工 | C31: 秦子 | D31: 男 | E31: 36 | F31: 专任教师 | G31: 京籍 | H31: 15210604456 | I31: 良好 | J31: 36.4 | K31: 在京 | L31: 北京市海淀区学院路30号北京科技大学35栋620 | N31: 非湖北地区（含北京） | Q31: 02-20 | R31: 自驾 | V31: 近14日返京 | W31: B1206249 | X31: 秦子 | Z31: =VLOOKUP(W31,#REF!,4,0) -> #REF!
A32: 31 | B32: 工研院 | C32: 詹智敏 | D32: 男 | E32: 33 | F32: 员工 | G32: 京籍 | H32: 13811703428 | I32: 良好 | J32: 36.5 | K32: 在京 | L32: 北京市朝阳区北京市朝阳区丝竹园小区12号楼401室 | N32: 非湖北地区（含北京） | Q32: 02-25 | R32: 火车 | S32: G322 | V32: 近14日返京 | W32: 13811703428 | X32: 詹智敏 | Z32: =VLOOKUP(W32,#REF!,4,0) -> #REF!
A33: 32 | B33: 工研院 | C33: 张建国 | D33: 男 | E33: 28 | F33: 员工 | G33: 非京籍 | H33: 18611430297 | I33: 良好 | J33: 36.4 | K33: 在京 | L33: 北京市昌平区绿城阳光小区甲5四单元401 | N33: 非湖北地区（含北京） | Q33: 02-21 | R33: 自驾 | V33: 近14日返京 | W33: 18611430297 | X33: 张建国 | Z33: =VLOOKUP(W33,#REF!,4,0) -> #REF!
A34: 33 | B34: 工研院 | C34: 王磊 | D34: 男 | E34: 33 | F34: 专任教师 | G34: 京籍 | H34: 18612726091 | I34: 良好 | J34: 36.2 | K34: 在京 | L34: 北京市海淀区北京科技大学21号楼406 | N34: 非湖北地区（含北京） | Q34: 02-25 | R34: 火车 | S34: G6746 | V34: 近14日返京 | W34: B1925485 | X34: 王磊 | Z34: =VLOOKUP(W34,#REF!,4,0) -> #REF!
A35: 34 | B35: 机关党委 工会 | C35: 马特 | D35: 女 | E35: 37 | F35: 员工 | G35: 京籍 | H35: 15901532944 | I35: 良好 | J35: 36.6 | K35: 在京 | L35: 北京市海淀区北京科技大学50栋303 | N35: 非湖北地区（含北京） | Q35: 02-20 | R35: 自驾 | V35: 近14日返京 | W35: B1002329 | X35: 马特 | Z35: =VLOOKUP(W35,#REF!,4,0) -> #REF!
A36: 35 | B36: 管庄 | C36: 高航 | D36: 女 | E36: 56 | F36: 员工 | G36: 京籍 | H36: 13611004994 | I36: 良好 | J36: 36.2 | K36: 在京 | L36: 北京市朝阳区管庄北一里4号楼1-601 | N36: 非湖北地区（含北京） | Q36: 02-20 | R36: 火车 | S36: G9102 | V36: 近14日返京 | W36: A8505582 | X36: 高航 | Z36: =VLOOKUP(W36,#REF!,4,0) -> #REF!
A37: 36 | B37: 管庄 | C37: 袁振华 | D37: 女 | E37: 54 | F37: 员工 | G37: 京籍 | H37: 15010667496 | I37: 良好 | J37: 36.5 | K37: 在京 | L37: 北京市朝阳区望京融科橄榄城8-1-1201 | N37: 非湖北地区（含北京） | Q37: 03-04 | R37: 飞机 | S37: NH105、NH961 | V37: 近14日返京 | W37: A9804482 | X37: 袁振华 | Z37: =VLOOKUP(W37,#REF!,4,0) -> #REF!
A38: 37 | B38: 管庄 | C38: 刘亚宁 | D38: 女 | E38: 45 | F38: 员工 | G38: 京籍 | H38: 18811539675 | I38: 良好 | J38: 36.4 | K38: 在京 | L38: 北京市朝阳区康家园小区7号楼501 | N38: 非湖北地区（含北京） | Q38: 03-04 | R38: 飞机 | S38: n?h?961、nh105 | V38: 近14日返京 | W38: B0403768 | X38: 刘亚宁 | Z38: =VLOOKUP(W38,#REF!,4,0) -> #REF!
A39: 38 | B39: 管庄 | C39: 马黎 | D39: 女 | E39: 39 | F39: 员工 | G39: 京籍 | H39: 18618176807 | I39: 良好 | J39: 36.1 | K39: 在京 | L39: 北京市朝阳区柏林爱乐16-4-402 | N39: 非湖北地区（含北京） | Q39: 02-23 | R39: 飞机 | S39: CA1262 | V39: 近14日返京 | W39: B1553051 | X39: 马黎 | Z39: =VLOOKUP(W39,#REF!,4,0) -> #REF!
A40: 39 | B40: 管庄 | C40: 解心语 | D40: 女 | E40: 28 | F40: 员工 | G40: 非京籍 | H40: 15701363319 | I40: 良好 | J40: 36.4 | K40: 在京 | L40: 北京市海淀区建材城东路富力桃园小区A区A12－707 | N40: 非湖北地区（含北京） | Q40: 02-22 | R40: 自驾 | V40: 近14日返京 | W40: B1803676 | X40: 解心语 | Z40: =VLOOKUP(W40,#REF!,4,0) -> #REF!
...

Sheet 02单位
A1: 学院 | D1: 计算
A2: 土资 | B2: =VLOOKUP(A2,'03单位'!A:A,1,0) -> 土资 | D2: =COUNTIFS(#REF!,'02单位'!A2) -> #REF!
A3: 冶金 | B3: =VLOOKUP(A3,'03单位'!A:A,1,0) -> 冶金 | C3: 1 | D3: =COUNTIFS(#REF!,'02单位'!A3) -> #REF!
A4: 材料 | B4: =VLOOKUP(A4,'03单位'!A:A,1,0) -> 材料 | D4: =COUNTIFS(#REF!,'02单位'!A4) -> #REF!
A5: 机械 | B5: =VLOOKUP(A5,'03单位'!A:A,1,0) -> 机械 | D5: =COUNTIFS(#REF!,'02单位'!A5) -> #REF!
A6: 融创院 | B6: =VLOOKUP(A6,'03单位'!A:A,1,0) -> 融创院 | D6: =COUNTIFS(#REF!,'02单位'!A6) -> #REF!
A7: 能环 | B7: =VLOOKUP(A7,'03单位'!A:A,1,0) -> 能环 | D7: =COUNTIFS(#REF!,'02单位'!A7) -> #REF!
A8: 自动化 | B8: =VLOOKUP(A8,'03单位'!A:A,1,0) -> 自动化 | D8: =COUNTIFS(#REF!,'02单位'!A8) -> #REF!
A9: 计通 | B9: =VLOOKUP(A9,'03单位'!A:A,1,0) -> 计通 | D9: =COUNTIFS(#REF!,'02单位'!A9) -> #REF!
A10: 顺德院 | B10: =VLOOKUP(A10,'03单位'!A:A,1,0) -> 顺德院 | D10: =COUNTIFS(#REF!,'02单位'!A10) -> #REF!
A11: 数理 | B11: =VLOOKUP(A11,'03单位'!A:A,1,0) -> 数理 | D11: =COUNTIFS(#REF!,'02单位'!A11) -> #REF!
A12: 数理 | B12: =VLOOKUP(A12,'03单位'!A:A,1,0) -> 数理 | C12: 1 | D12: =COUNTIFS(#REF!,'02单位'!A12) -> #REF!
A13: 化生 | B13: =VLOOKUP(A13,'03单位'!A:A,1,0) -> 化生 | D13: =COUNTIFS(#REF!,'02单位'!A13) -> #REF!
A14: 生物工程与传感技术研究中心 | B14: =VLOOKUP(A14,'03单位'!A:A,1,0) -> 生物工程与传感技术研究中心 | C14: 1 | D14: =COUNTIFS(#REF!,'02单位'!A14) -> #REF!
A15: 管理 | B15: =VLOOKUP(A15,'03单位'!A:A,1,0) -> 管理 | C15: 1 | D15: =COUNTIFS(#REF!,'02单位'!A15) -> #REF!
A16: 文法 | B16: =VLOOKUP(A16,'03单位'!A:A,1,0) -> 文法 | C16: 1 | D16: =COUNTIFS(#REF!,'02单位'!A16) -> #REF!
A17: 外语 | B17: =VLOOKUP(A17,'03单位'!A:A,1,0) -> 外语 | D17: =COUNTIFS(#REF!,'02单位'!A17) -> #REF!
A18: 马院 | B18: =VLOOKUP(A18,'03单位'!A:A,1,0) -> 马院 | D18: =COUNTIFS(#REF!,'02单位'!A18) -> #REF!
A19: 新材院 | B19: =VLOOKUP(A19,'03单位'!A:A,1,0) -> 新材院 | D19: =COUNTIFS(#REF!,'02单位'!A19) -> #REF!
A20: 北京材料基因工程高精尖创新中心 | B20: =VLOOKUP(A20,'03单位'!A:A,1,0) -> 北京材料基因工程高精尖创新中心 | D20: =COUNTIFS(#REF!,'02单位'!A20) -> #REF!
A21: 沿海院 | B21: =VLOOKUP(A21,'03单位'!A:A,1,0) -> 沿海院 | D21: =COUNTIFS(#REF!,'02单位'!A21) -> #REF!
A22: 工研院 | B22: =VLOOKUP(A22,'03单位'!A:A,1,0) -> 工研院 | D22: =COUNTIFS(#REF!,'02单位'!A22) -> #REF!
A23: 创新中心 | B23: =VLOOKUP(A23,'03单位'!A:A,1,0) -> 创新中心 | D23: =COUNTIFS(#REF!,'02单位'!A23) -> #REF!
A24: 高工 | B24: =VLOOKUP(A24,'03单位'!A:A,1,0) -> 高工 | D24: =COUNTIFS(#REF!,'02单位'!A24) -> #REF!
A25: 体育部 | B25: =VLOOKUP(A25,'03单位'!A:A,1,0) -> 体育部 | D25: =COUNTIFS(#REF!,'02单位'!A25) -> #REF!
A26: 体育馆 | B26: =VLOOKUP(A26,'03单位'!A:A,1,0) -> 体育馆 | D26: =COUNTIFS(#REF!,'02单位'!A26) -> #REF!
A27: 管庄 | B27: =VLOOKUP(A27,'03单位'!A:A,1,0) -> 管庄 | C27: 1 | D27: =COUNTIFS(#REF!,'02单位'!A27) -> #REF!
A28: 后勤处 | B28: =VLOOKUP(A28,'03单位'!A:A,1,0) -> 后勤处 | D28: =COUNTIFS(#REF!,'02单位'!A28) -> #REF!
A29: 社区服务管理中心 | B29: =VLOOKUP(A29,'03单位'!A:A,1,0) -> 社区服务管理中心 | D29: =COUNTIFS(#REF!,'02单位'!A29) -> #REF!
A30: 校医院 | B30: =VLOOKUP(A30,'03单位'!A:A,1,0) -> 校医院 | D30: =COUNTIFS(#REF!,'02单位'!A30) -> #REF!
A31: 产业集团党委 | B31: =VLOOKUP(A31,'03单位'!A:A,1,0) -> 产业集团党委 | D31: =COUNTIFS(#REF!,'02单位'!A31) -> #REF!
A32: 资产公司 | B32: =VLOOKUP(A32,'03单位'!A:A,1,0) -> 资产公司 | D32: =COUNTIFS(#REF!,'02单位'!A32) -> #REF!
A33: 科技园 | B33: =VLOOKUP(A33,'03单位'!A:A,1,0) -> 科技园 | D33: =COUNTIFS(#REF!,'02单位'!A33) -> #REF!
A34: 分析检验中心 | B34: =VLOOKUP(A34,'03单位'!A:A,1,0) -> 分析检验中心 | D34: =COUNTIFS(#REF!,'02单位'!A34) -> #REF!
A35: 天工公司 | B35: =VLOOKUP(A35,'03单位'!A:A,1,0) -> 天工公司 | D35: =COUNTIFS(#REF!,'02单位'!A35) -> #REF!
A36: 昌平创新园区管理委员会 | B36: =VLOOKUP(A36,'03单位'!A:A,1,0) -> 昌平创新园区管理委员会 | C36: 1 | D36: =COUNTIFS(#REF!,'02单位'!A36) -> #REF!
A37: 科学中心 | B37: =VLOOKUP(A37,'03单位'!A:A,1,0) -> 科学中心 | C37: 1 | D37: =COUNTIFS(#REF!,'02单位'!A37) -> #REF!
A38: 材料国重 | B38: =VLOOKUP(A38,'03单位'!A:A,1,0) -> 材料国重 | D38: =COUNTIFS(#REF!,'02单位'!A38) -> #REF!
A39: 科技史 | B39: =VLOOKUP(A39,'03单位'!A:A,1,0) -> 科技史 | D39: =COUNTIFS(#REF!,'02单位'!A39) -> #REF!
A40: 冶金国重 | B40: =VLOOKUP(A40,'03单位'!A:A,1,0) -> 冶金国重 | D40: =COUNTIFS(#REF!,'02单位'!A40) -> #REF!
...

Sheet 03单位
A1: 单位-简称
A2: 材料 | B2: =VLOOKUP(A2,'02单位'!A:A,1,0) -> 材料 | C2: =COUNTIFS(#REF!,'03单位'!A2) -> #REF!
A3: 机关党委 财务处 | B3: =VLOOKUP(A3,'02单位'!A:A,1,0) -> 机关党委 财务处 | C3: =COUNTIFS(#REF!,'03单位'!A3) -> #REF!
A4: 管理 | B4: =VLOOKUP(A4,'02单位'!A:A,1,0) -> 管理 | C4: =COUNTIFS(#REF!,'03单位'!A4) -> #REF!
A5: 创新中心 | B5: =VLOOKUP(A5,'02单位'!A:A,1,0) -> 创新中心 | C5: =COUNTIFS(#REF!,'03单位'!A5) -> #REF!
A6: 冶金国重 | B6: =VLOOKUP(A6,'02单位'!A:A,1,0) -> 冶金国重 | C6: =COUNTIFS(#REF!,'03单位'!A6) -> #REF!
A7: 高工 | B7: =VLOOKUP(A7,'02单位'!A:A,1,0) -> 高工 | C7: =COUNTIFS(#REF!,'03单位'!A7) -> #REF!
A8: 工研院 | B8: =VLOOKUP(A8,'02单位'!A:A,1,0) -> 工研院 | C8: =COUNTIFS(#REF!,'03单位'!A8) -> #REF!
A9: 机关党委 工会 | B9: =VLOOKUP(A9,'02单位'!A:A,1,0) -> 机关党委 工会 | C9: =COUNTIFS(#REF!,'03单位'!A9) -> #REF!
A10: 管庄 | B10: =VLOOKUP(A10,'02单位'!A:A,1,0) -> 管庄 | C10: =COUNTIFS(#REF!,'03单位'!A10) -> #REF!
A11: 机关党委 国际处 | B11: =VLOOKUP(A11,'02单位'!A:A,1,0) -> 机关党委 国际处 | C11: =COUNTIFS(#REF!,'03单位'!A11) -> #REF!
A12: 科学中心 | B12: =VLOOKUP(A12,'02单位'!A:A,1,0) -> 科学中心 | C12: =COUNTIFS(#REF!,'03单位'!A12) -> #REF!
A13: 化生 | B13: =VLOOKUP(A13,'02单位'!A:A,1,0) -> 化生 | C13: =COUNTIFS(#REF!,'03单位'!A13) -> #REF!
... A77: 天工公司 | B77: =VLOOKUP(A77,'02单位'!A:A,1,0) -> 天工公司 | C77: =COUNTIFS(#REF!,'03单位'!A77) -> #REF!

Sheet 信息表
A1: 附件：
A2: 临时探访人员进校申请表
A3: 进校人姓名 | B3: 进校车牌号 | C3: 进校事由 | D3: 进校时间 | E3: 进校人单位 | F3: 进校人联系方式 | G3: 进入教学学生区入口（实验楼入口、万秀园入口、南二门、西门 | H3: 校内申请单位 | I3: 申请单位负责人签字（签章） | J3: 近14天情况
J4: 1.体温是否正常 是□ 否□ 2.是否有发热、咳嗽等症状 是□ 否□ 3.是否来自境外、湖北及国内中高风险地区 是□ 否□ 4.是否接触过以上地区返回人员 是□ 否□ 5.是否有同住家人从以上地区返回 是□ 否□
A5: 经办人： 电话：
A6: 备注：1.临时探访人员和车辆需经校内各申请单位审核； 2.各单位要按照“非必须不申请的原则”严格把关； 3.各单位要密切关注各地区疫情风险等级变化，确保进校人员身体健康。
